BEGIN:VCALENDAR
VERSION:2.0
PRODID:-//Gospel Agenda - ECPv4.9.13//NONSGML v1.0//EN
CALSCALE:GREGORIAN
METHOD:PUBLISH
X-ORIGINAL-URL:https://gospelagenda.org
X-WR-CALDESC:Events for Gospel Agenda
BEGIN:VTIMEZONE
TZID:Europe/Paris
BEGIN:DAYLIGHT
TZOFFSETFROM:+0100
TZOFFSETTO:+0200
TZNAME:CEST
DTSTART:20190331T010000
END:DAYLIGHT
BEGIN:STANDARD
TZOFFSETFROM:+0200
TZOFFSETTO:+0100
TZNAME:CET
DTSTART:20191027T010000
END:STANDARD
END:VTIMEZONE
BEGIN:VEVENT
DTSTART;TZID=Europe/Paris:20190606T193000
DTEND;TZID=Europe/Paris:20190606T213000
DTSTAMP:20260425T233846
CREATED:20190506T195908Z
LAST-MODIFIED:20190508T053101Z
UID:3211-1559849400-1559856600@gospelagenda.org
SUMMARY:Zorg voor mensen met psychische problemen - Toerustingscursus - deel 2
DESCRIPTION:Zorg voor mensen met psychische problemen\nToerustingscursus – deel 2\n \nIn uw kerkelijke gemeente komt u ze zonder twijfel met regelmaat tegen: mensen die te kampen hebben met depressiviteit\, autisme\, verslaving of bijvoorbeeld een persoonlijkheidsstoornis. \nIn deze toerustingscursus wordt ingegaan op deze psychiatrische ziektebeelden. Ook is er ruime aandacht voor de wisselwerking van de stoornis met geloof en geloofsbeleving en de implicaties van pastoraat. \nCursusdata\n\n16 mei\n6 juni\n20 juni\n\n
URL:https://gospelagenda.org/evenementen/zorg-voor-mensen-met-psychische-problemen-toerustingscursus-deel-2/
LOCATION:Kennisinstituut Christelijke GGZ\, Printerweg 21\, Amersfoort\, Utrecht\, 3821 AP\, Nederland
CATEGORIES:Anders,Leiderschap,Ministry,Training
ATTACH;FMTTYPE=image/jpeg:https://gospelagenda.org/wp-content/uploads/2019/05/Zorg-voor-mensen-met-psychische-problemen-Kennisinstituut-Christelijke-GGZ.jpg
ORGANIZER;CN="Kennisinstituut%20Christelijke%20GGZ":MAILTO:info@kicg.nl
END:VEVENT
END:VCALENDAR