BEGIN:VCALENDAR
VERSION:2.0
PRODID:-//Gospel Agenda - ECPv4.9.13//NONSGML v1.0//EN
CALSCALE:GREGORIAN
METHOD:PUBLISH
X-ORIGINAL-URL:https://gospelagenda.org
X-WR-CALDESC:Events for Gospel Agenda
BEGIN:VTIMEZONE
TZID:Europe/Paris
BEGIN:DAYLIGHT
TZOFFSETFROM:+0100
TZOFFSETTO:+0200
TZNAME:CEST
DTSTART:20190331T010000
END:DAYLIGHT
BEGIN:STANDARD
TZOFFSETFROM:+0200
TZOFFSETTO:+0100
TZNAME:CET
DTSTART:20191027T010000
END:STANDARD
END:VTIMEZONE
BEGIN:VEVENT
DTSTART;TZID=Europe/Paris:20190327T200000
DTEND;TZID=Europe/Paris:20190327T223000
DTSTAMP:20260425T222216
CREATED:20190317T205341Z
LAST-MODIFIED:20190317T205341Z
UID:2419-1553716800-1553725800@gospelagenda.org
SUMMARY:Worshipnight You Are
DESCRIPTION:Worshipnigth You Are\nEen avond waarin we met elkaar God willen ontmoeten én waar Sjoerd voor het eerst met zijn band zijn eigen nummers zal laten horen. Vergeet niet om je (GRATIS) tickets te reserveren via de link in de omschrijving\, zo kunnen wij op je rekenen! \n
URL:https://gospelagenda.org/evenementen/worshipnight-you-are/
LOCATION:De Basiliek (Veenendaal)\, Wiltonstraat 56\, Veenendaal\, Utrecht\, 3905 KW\, Nederland
CATEGORIES:Anders,Praise & Worship
ATTACH;FMTTYPE=image/jpeg:https://gospelagenda.org/wp-content/uploads/2019/03/Worshipnight-You-Are.jpg
END:VEVENT
END:VCALENDAR