BEGIN:VCALENDAR
VERSION:2.0
PRODID:-//Gospel Agenda - ECPv4.9.13//NONSGML v1.0//EN
CALSCALE:GREGORIAN
METHOD:PUBLISH
X-ORIGINAL-URL:https://gospelagenda.org
X-WR-CALDESC:Events for Gospel Agenda
BEGIN:VTIMEZONE
TZID:Europe/Paris
BEGIN:DAYLIGHT
TZOFFSETFROM:+0100
TZOFFSETTO:+0200
TZNAME:CEST
DTSTART:20190331T010000
END:DAYLIGHT
BEGIN:STANDARD
TZOFFSETFROM:+0200
TZOFFSETTO:+0100
TZNAME:CET
DTSTART:20191027T010000
END:STANDARD
END:VTIMEZONE
BEGIN:VEVENT
DTSTART;TZID=Europe/Paris:20190511T190000
DTEND;TZID=Europe/Paris:20190511T220000
DTSTAMP:20260425T221312
CREATED:20190502T053632Z
LAST-MODIFIED:20190502T053632Z
UID:3135-1557601200-1557612000@gospelagenda.org
SUMMARY:Worship Together
DESCRIPTION:Worship Together\nIedereen is uitgenodigd om samen met ons deze avond God te aanbidden in geest en waarheid. Laten we hem gaan zoeken in geest en waarheid. \nEntree is gratis. \n19:00 Deuren open\n19:30 Begin worship\n21:00 Einde worship\n22:00 Sluiten deuren \n
URL:https://gospelagenda.org/evenementen/worship-together/
LOCATION:Elim Gemeenschap (Gent)\, Acaciastraat 2\, Gent\, Oost-Vlaanderen\, 9000\, België
CATEGORIES:Praise & Worship
ATTACH;FMTTYPE=image/jpeg:https://gospelagenda.org/wp-content/uploads/2019/05/Worship-Together-Elim-Gent.jpg
END:VEVENT
END:VCALENDAR