BEGIN:VCALENDAR
VERSION:2.0
PRODID:-//Gospel Agenda - ECPv4.9.13//NONSGML v1.0//EN
CALSCALE:GREGORIAN
METHOD:PUBLISH
X-ORIGINAL-URL:https://gospelagenda.org
X-WR-CALDESC:Events for Gospel Agenda
BEGIN:VTIMEZONE
TZID:Europe/Paris
BEGIN:DAYLIGHT
TZOFFSETFROM:+0100
TZOFFSETTO:+0200
TZNAME:CEST
DTSTART:20190331T010000
END:DAYLIGHT
BEGIN:STANDARD
TZOFFSETFROM:+0200
TZOFFSETTO:+0100
TZNAME:CET
DTSTART:20191027T010000
END:STANDARD
END:VTIMEZONE
BEGIN:VEVENT
DTSTART;TZID=Europe/Paris:20190721T200000
DTEND;TZID=Europe/Paris:20190721T220000
DTSTAMP:20260425T204053
CREATED:20190328T222407Z
LAST-MODIFIED:20190328T222407Z
UID:2512-1563739200-1563746400@gospelagenda.org
SUMMARY:Worship Night - Worship Collective
DESCRIPTION:Worship Night – Worship Collective\nIn samenwerking met YWAM Heidebeek! \nOntzettend gaaf om op Heidebeek te aanbidden\, een plek met een rijke geschiedenis\, waar al decennia lang mensen worden voorbereid\, toegerust en getraind in discipelschap & zending. \nDe zomervakantie is misschien wel begonnen\, maar zo beginnen bij YWAM de familiekampen en trainingen ook! Het doel is om te doen wat we normaal ook doen.. Het is een openbaar event\, iedereen is welkom\, van cursisten tot kampeerders\, tot overige geïnteresseerden… en dan een heerlijke worship night in de open lucht op de Veluwe! \nAls Worship Collective benaderen we iedere avond uniek en vragen we aan God wat de volgende stap in geloof mag zijn. Het is ons verlangen in Zijn aanwezigheid te zijn\, dat mensen de ruimte krijgen om zichzelf volledig te geven in aanbidding en dat God de ruimte krijgt om te bewegen. We geloven dat de aanwezigheid van God als een magneet werkt voor mensen die op zoek zijn naar meer van Hem\, maar ook dat het voorziet in een doorbraak van een cultuur van aanbidding. Dit willen we faciliteren zodat we samen leren vrijmoedig te lofprijzen en te aanbidden. Vol ontzag mogen we vervuld worden van de liefde van Jezus en de kracht van de Heilige Geest. Hierdoor ontvangen we vernieuwing voor ons persoonlijk leven en hebben we impact op de kerk en daarbuiten. \n
URL:https://gospelagenda.org/evenementen/worship-night-worship-collective-2/
LOCATION:YWAM Heidebeek\, Mussenkampseweg 32\, Heerde\, Gelderland\, 8181 PK\, Netherlands
CATEGORIES:Praise & Worship
ATTACH;FMTTYPE=image/jpeg:https://gospelagenda.org/wp-content/uploads/2019/03/Worship-Collective-YWAM-Heidebeek.jpg
ORGANIZER;CN="Worship%20Collective":MAILTO:info@worshipcollective.nl
END:VEVENT
END:VCALENDAR