BEGIN:VCALENDAR
VERSION:2.0
PRODID:-//Gospel Agenda - ECPv4.9.13//NONSGML v1.0//EN
CALSCALE:GREGORIAN
METHOD:PUBLISH
X-ORIGINAL-URL:https://gospelagenda.org
X-WR-CALDESC:Events for Gospel Agenda
BEGIN:VTIMEZONE
TZID:Europe/Paris
BEGIN:DAYLIGHT
TZOFFSETFROM:+0100
TZOFFSETTO:+0200
TZNAME:CEST
DTSTART:20160327T010000
END:DAYLIGHT
BEGIN:STANDARD
TZOFFSETFROM:+0200
TZOFFSETTO:+0100
TZNAME:CET
DTSTART:20161030T010000
END:STANDARD
END:VTIMEZONE
BEGIN:VEVENT
DTSTART;TZID=Europe/Paris:20160529T190000
DTEND;TZID=Europe/Paris:20160529T230000
DTSTAMP:20260425T221326
CREATED:20160511T123504Z
LAST-MODIFIED:20160511T123504Z
UID:347-1464548400-1464562800@gospelagenda.org
SUMMARY:Worship Night Leiden
DESCRIPTION:Worship Night Leiden\nOp zondag 29 mei organiseert de Worship Week Leiden een Worship Night bij Rockademy. Er zullen drie bands optredens namelijk: \n\nPronk\nWe are the sound\nSandy & friends\n\n \nDeze Worship Night Leiden wordt mede mogelijk gemaakt door Worship Week Leiden\, bestaande uit: \n\nICL – ichurchleiden.nl/\nGODcentre – godcentre.nl\nEvangeliegemeente Wassenaar – www.egwassenaar.nl\nNGK Oegstgeest – www.ngkoegstgeest.nl/\nKleur op Kleding – www.kleuropkleding.nl/\ndB productions\nEn al onze individuele donateurs\n\nOver Worship Week Leiden\nDe Worship Week Leiden is een week vol worship-avonden georganiseerd door de kerken in Leiden (en omstreken). De muzikanten komen uit de deelnemende kerken. Samen bedanken we God door middel van muziek en gebed. Samen staan we stil bij wat God voor ons betekent. \nHet doel van deze week is het creëren van meer eenheid tussen christenen. Als christenen staan we sterk in deze wereld als we het maar samen doen. Samen sterk! \n
URL:https://gospelagenda.org/evenementen/worship-night-leiden/
LOCATION:Rockademy\, Morsweg 55E\, Leiden\, Zuid-Holland\, 2312 AB\, Nederland
ATTACH;FMTTYPE=image/jpeg:https://gospelagenda.org/wp-content/uploads/2016/05/Worship-Night-Leiden.jpg
ORGANIZER;CN="Worship%20Week%20Leiden":MAILTO:hvanhaagen@gmail.com
END:VEVENT
END:VCALENDAR