BEGIN:VCALENDAR
VERSION:2.0
PRODID:-//Gospel Agenda - ECPv4.9.13//NONSGML v1.0//EN
CALSCALE:GREGORIAN
METHOD:PUBLISH
X-ORIGINAL-URL:https://gospelagenda.org
X-WR-CALDESC:Events for Gospel Agenda
BEGIN:VTIMEZONE
TZID:Europe/Paris
BEGIN:DAYLIGHT
TZOFFSETFROM:+0100
TZOFFSETTO:+0200
TZNAME:CEST
DTSTART:20190331T010000
END:DAYLIGHT
BEGIN:STANDARD
TZOFFSETFROM:+0200
TZOFFSETTO:+0100
TZNAME:CET
DTSTART:20191027T010000
END:STANDARD
END:VTIMEZONE
BEGIN:VEVENT
DTSTART;TZID=Europe/Paris:20190706T193000
DTEND;TZID=Europe/Paris:20190706T213000
DTSTAMP:20260425T203910
CREATED:20190628T055515Z
LAST-MODIFIED:20190629T150039Z
UID:4019-1562441400-1562448600@gospelagenda.org
SUMMARY:Worship Night
DESCRIPTION:Worship Night\nLieve worshippers! Zaterdag 6 Juli hebben we weer een worshipnight georganiseerd! Kom jij ook God aanbidden? Met muziek\, dans\, gebed\, vlaggen art en meer… \n\n\n\nThe Worship Community\nWaar God aanbidden centraal staat en waar we familie zijn!\nLocatie: Stay & Pray – Symen Halbeswei 8 Tietjerk\nElke 1e zaterdag vd maand // 19.30 -21.30 uur\n\n\n\n
URL:https://gospelagenda.org/evenementen/worship-night-2/
LOCATION:Stichting Stay & Pray\, Symen Halbeswei 8\, Tietjerk\, Friesland\, 9255 LL\, Netherlands
CATEGORIES:Ministry,Praise & Worship
ATTACH;FMTTYPE=image/jpeg:https://gospelagenda.org/wp-content/uploads/2019/06/Worship-Night-The-Worship-Community.jpg
END:VEVENT
END:VCALENDAR