BEGIN:VCALENDAR
VERSION:2.0
PRODID:-//Gospel Agenda - ECPv4.9.13//NONSGML v1.0//EN
CALSCALE:GREGORIAN
METHOD:PUBLISH
X-ORIGINAL-URL:https://gospelagenda.org
X-WR-CALDESC:Events for Gospel Agenda
BEGIN:VTIMEZONE
TZID:Europe/Paris
BEGIN:DAYLIGHT
TZOFFSETFROM:+0100
TZOFFSETTO:+0200
TZNAME:CEST
DTSTART:20190331T010000
END:DAYLIGHT
BEGIN:STANDARD
TZOFFSETFROM:+0200
TZOFFSETTO:+0100
TZNAME:CET
DTSTART:20191027T010000
END:STANDARD
END:VTIMEZONE
BEGIN:VEVENT
DTSTART;TZID=Europe/Paris:20190602T193000
DTEND;TZID=Europe/Paris:20190602T210000
DTSTAMP:20260425T233744
CREATED:20190527T111633Z
LAST-MODIFIED:20190527T112156Z
UID:3547-1559503800-1559509200@gospelagenda.org
SUMMARY:Worship church 2 juni
DESCRIPTION:Worship Church 2 juni\n\n\nEen wekelijkse samenkomst op zondagavond\, die draait om het aanbidden van Jezus Christus – midden in het Groene Hart van Nederland. Ben jij er bij?! Van jong tot oud iedereen is van harte welkom! \n\n\n\n\n\nPowerful Praise\n\nWij geloven dat de natuurlijke wereld gestuurd wordt vanuit de geestelijke wereld. Ons verlangen is de geestelijke atmosfeer te beïnvloeden zodat er meer ruimte ontstaat voor Gods koninkrijk! Dit willen we doen door het bezingen en aanbidden van Jezus Christus. \n\n\n\n\n\n\n\nSweet Presence\n\nGod is echt! Dus God kun je ervaren. Als Hij dichtbij komt verandert je leven. Tijdens onze samenkomsten strekken we ons uit naar een ontmoeting met Hem. Door ons op Hem te richten\, te zorgen dat Hij zich welkom voelt en de tijd nemen om naar Hem te luisteren. \n\n\n\n\n\n\n\nSimple Truth\n\nWij geloven in de kracht van de Bijbel. Elke gelovige heeft met de Bijbel (Gods woord) een leidraad voor het dagelijks leven in handen. Als kerk kunnen we dus mensen het beste helpen door ze te leren afhankelijk van God en Zijn woorden te leven. \n\n\n\n\n\n\n\nTogether Strong\n\nWij geloven in één wereldwijde kerk die in verschillende vormen samenkomt; Als Worship Church willen we ons steentje bijdragen en meebouwen aan zowel individuele gelovigen als de algehele kerk. \n\n\n\n\n
URL:https://gospelagenda.org/evenementen/worship-church-2-juni/
LOCATION:Jongerencentrum ‘De Zon’\, Eiber 130\, Bodegraven\, Zuid-Holland\, 2411 LC\, Nederland
CATEGORIES:Ministry,Praise & Worship
ATTACH;FMTTYPE=image/jpeg:https://gospelagenda.org/wp-content/uploads/2019/05/Worship-Church.jpg
ORGANIZER;CN="Worship%20Church":MAILTO:info@worshipchurch.nl
END:VEVENT
END:VCALENDAR