BEGIN:VCALENDAR
VERSION:2.0
PRODID:-//Gospel Agenda - ECPv4.9.13//NONSGML v1.0//EN
CALSCALE:GREGORIAN
METHOD:PUBLISH
X-ORIGINAL-URL:https://gospelagenda.org
X-WR-CALDESC:Events for Gospel Agenda
BEGIN:VTIMEZONE
TZID:Europe/Paris
BEGIN:DAYLIGHT
TZOFFSETFROM:+0100
TZOFFSETTO:+0200
TZNAME:CEST
DTSTART:20190331T010000
END:DAYLIGHT
BEGIN:STANDARD
TZOFFSETFROM:+0200
TZOFFSETTO:+0100
TZNAME:CET
DTSTART:20191027T010000
END:STANDARD
END:VTIMEZONE
BEGIN:VEVENT
DTSTART;TZID=Europe/Paris:20190203T193000
DTEND;TZID=Europe/Paris:20190203T213000
DTSTAMP:20260425T233127
CREATED:20190201T223054Z
LAST-MODIFIED:20190201T223431Z
UID:1577-1549222200-1549229400@gospelagenda.org
SUMMARY:Wonderlijke Zondag
DESCRIPTION:Wonderlijke Zondag\nWonderen horen bij de bediening van Jezus en wonderen zijn kenmerken van het koninkrijk van God. We willen graag meer ruimte maken voor het werk van de Heilige Geest en we verwachten dat er (meer) wonderen gaan gebeuren. \nIn Veenendaal\nSinds februari 2015 houden we elke eerste zondagavond van de maand (behalve juli en augustus) een ‘Wonderlijke Zondag’ in Veenendaal\, een dienst met als thema ‘Wonderen’. Hoofdspreker is Martin Koornstra\, die soms afgewisseld wordt met andere sprekers. Gastheer is Kees van Daalen en we starten om 19.30 uur. \nDe volgende ‘Wonderlijke Zondag’ in Veenendaal is op 3 februari met als GASTSPREKER RICHIE SELTZER. \n\n\n
URL:https://gospelagenda.org/evenementen/wonderlijke-zondag/
LOCATION:Baptistengemeente Veenendaal\, De Schutterij 2\, Veenendaal\, Utrecht\, 3905 PL\, Nederland
CATEGORIES:Speciale Diensten
ATTACH;FMTTYPE=image/jpeg:https://gospelagenda.org/wp-content/uploads/2019/02/februari-2019-2.jpg
END:VEVENT
END:VCALENDAR