BEGIN:VCALENDAR
VERSION:2.0
PRODID:-//Gospel Agenda - ECPv4.9.13//NONSGML v1.0//EN
CALSCALE:GREGORIAN
METHOD:PUBLISH
X-ORIGINAL-URL:https://gospelagenda.org
X-WR-CALDESC:Events for Gospel Agenda
BEGIN:VTIMEZONE
TZID:Europe/Paris
BEGIN:DAYLIGHT
TZOFFSETFROM:+0100
TZOFFSETTO:+0200
TZNAME:CEST
DTSTART:20190331T010000
END:DAYLIGHT
BEGIN:STANDARD
TZOFFSETFROM:+0200
TZOFFSETTO:+0100
TZNAME:CET
DTSTART:20191027T010000
END:STANDARD
END:VTIMEZONE
BEGIN:VEVENT
DTSTART;TZID=Europe/Paris:20190628T200000
DTEND;TZID=Europe/Paris:20190628T230000
DTSTAMP:20260425T205949
CREATED:20190518T220928Z
LAST-MODIFIED:20190518T221753Z
UID:3400-1561752000-1561762800@gospelagenda.org
SUMMARY:Wildfire - I AM - Man!
DESCRIPTION:Wildfire – I AM – Man!\nMannen opgelet!! \nEen kampvuur met onderstaande ingrediënten: \n\nToffe locatie aan de rivier\nWildfire\nHapjes & drankjes en een hoop lol!\nmannen onder elkaar 😉\n\nAanmelden is fijn… stuur een e-mail naar info@iamloved.nl \nHet lijkt ons tof je daar te ontmoeten en neem gerust iemand mee! \n
URL:https://gospelagenda.org/evenementen/wildfire-i-am-man/
LOCATION:I AM Mannenavond\, Rivierdijk 31\, Hardinxveld-Giessendam\, Zuid-Holland\, 3372 BE\, Nederland
CATEGORIES:Man / Vrouw
ATTACH;FMTTYPE=image/jpeg:https://gospelagenda.org/wp-content/uploads/2019/05/Wildfire-I-am-Man.jpg
ORGANIZER;CN="I%20AM":MAILTO:info@iamloved.nl
END:VEVENT
END:VCALENDAR