BEGIN:VCALENDAR
VERSION:2.0
PRODID:-//Gospel Agenda - ECPv4.9.13//NONSGML v1.0//EN
CALSCALE:GREGORIAN
METHOD:PUBLISH
X-ORIGINAL-URL:https://gospelagenda.org
X-WR-CALDESC:Events for Gospel Agenda
BEGIN:VTIMEZONE
TZID:Europe/Paris
BEGIN:DAYLIGHT
TZOFFSETFROM:+0100
TZOFFSETTO:+0200
TZNAME:CEST
DTSTART:20190331T010000
END:DAYLIGHT
BEGIN:STANDARD
TZOFFSETFROM:+0200
TZOFFSETTO:+0100
TZNAME:CET
DTSTART:20191027T010000
END:STANDARD
END:VTIMEZONE
BEGIN:VEVENT
DTSTART;TZID=Europe/Paris:20190517T153000
DTEND;TZID=Europe/Paris:20190517T220000
DTSTAMP:20260425T204052
CREATED:20190412T123436Z
LAST-MODIFIED:20190412T123436Z
UID:2780-1558107000-1558130400@gospelagenda.org
SUMMARY:Vrouwenconferentie Kom Dichterbij
DESCRIPTION:Vrouwenconferentie Kom Dichterbij\nIeder mens heeft een stevig fundament van onvoorwaardelijke liefde\, vrede en waardering nodig. Helaas kan geen mens\, baan\, man\, therapie of vakantie je dat geven. God kan en wil dat wel! Wil jij weten hoe dat zit? Herken je dat verlangen naar diepe innerlijke vrede en eigenwaarde? Wees welkom op 17 mei en ontvang Gods bijzondere zorg en woorden speciaal voor jou. Ken je God nog niet\, een beetje of al goed? Het maakt niet uit\, het wordt een dag vol liefde\, bemoediging en begrijpelijk Bijbels onderwijs. Fijn voor jezelf en ideaal om iemand mee naar toe te nemen. De muziek is onder leiding van Worshipband Delight. \nKom zoals je bent\, je bent het waard! \n  \n\n\nProgramma\n15.30 uur: Ontvangst met welkomstdrankje\n16.00 uur: Opening\, muziek en zang\n16.30 uur: Else Walinga spreekt over:\n‘Gods onvoorwaardelijke liefde…\n18.00 uur: Gezellige maaltijd\n19.00 uur: Muziek\, zang en drama\n19.45 uur: Vervolg thema en verwerking\n…Speciaal voor jou!’\n21.00 uur: Gezelligheid & borreltijd \nVoor wie dat wil is er doorlopend tijd voor ontspanning\, creativiteit en gebed. \n  \n\n\nRegistratie\nMeer info of aanmelden? Ga naar de website van het evenement. Een ticket kost €25\,-\, maar voor slechts €5\,- extra mag je een introducee meenemen\, die je d.m.v. deze dag wil bemoedigen! \n
URL:https://gospelagenda.org/evenementen/vrouwenconferentie-kom-dichterbij/
LOCATION:De Banier (Zoetermeer)\, César Franckrode 58\, Zoetermeer\, Zuid-Holland\, 2717 BG\, Netherlands
CATEGORIES:Conferenties,Man / Vrouw
ATTACH;FMTTYPE=image/jpeg:https://gospelagenda.org/wp-content/uploads/2019/04/Vrouwenconferentie-Kom-Dichterbij-880x604px.jpg
ORGANIZER;CN="Kom%20dichterbij":MAILTO:info@komdichterbij.nl
END:VEVENT
END:VCALENDAR