BEGIN:VCALENDAR
VERSION:2.0
PRODID:-//Gospel Agenda - ECPv4.9.13//NONSGML v1.0//EN
CALSCALE:GREGORIAN
METHOD:PUBLISH
X-ORIGINAL-URL:https://gospelagenda.org
X-WR-CALDESC:Events for Gospel Agenda
BEGIN:VTIMEZONE
TZID:Europe/Paris
BEGIN:DAYLIGHT
TZOFFSETFROM:+0100
TZOFFSETTO:+0200
TZNAME:CEST
DTSTART:20190331T010000
END:DAYLIGHT
BEGIN:STANDARD
TZOFFSETFROM:+0200
TZOFFSETTO:+0100
TZNAME:CET
DTSTART:20191027T010000
END:STANDARD
END:VTIMEZONE
BEGIN:VEVENT
DTSTART;TZID=Europe/Paris:20190309T103000
DTEND;TZID=Europe/Paris:20190309T183000
DTSTAMP:20260425T210714
CREATED:20190205T191045Z
LAST-MODIFIED:20190205T191045Z
UID:1652-1552127400-1552156200@gospelagenda.org
SUMMARY:Vrouwenconferentie Identiteit
DESCRIPTION:Vrouwenconferentie Identiteit\nOp zaterdag 9 maart 2019 organiseert Bethesda Ministries in kader van internationale vrouwenconferentie identiteit hun jaarlijkse internationale Vrouwen Conferentie/dag. Met dit jaar als thema “Vrouw van wijsheid”. \nHet zal een dag zijn met veel muziek\, danspresentaties\, krachtige boodschappen van bemoedigingen en transformatie. \nDe spreeksters van dit jaar zullen zijn:\n– Pastor Berenice Balochie\n– Pastor Gale Mc Koy-George\n– Apostel Jolanda Rood \nTijdens de pauze is er de mogelijkheid om met elkaar van gedachten uit te wisselen\, elkaar de nodige ondersteuning te geven en ook om eventueel vragen te stellen. Verder zal er een keuken zijn waar u verschillende gerechten kunt kopen. Het is zeer belangrijk dat het laagdrempelig is\, omdat wij vinden dat alle vrouwen internationale vrouwendag mee moeten kunnen vieren. En daarom vragen wij ook Geen toegangskosten. \nAlle vrouwen zijn hierbij van harte welkom. Al bij al zal het een zeer gezellige en plezierige dag worden voor de vrouwen. Mis het niet! Vrouwendag 2019! \n  \nIndien je nog vragen hebt of je wenst meer informatie omtrent deze conferentie te ontvangen\, kun je contact met ons opnemen. \nLet op: Er is geen kindercrèche! \n
URL:https://gospelagenda.org/evenementen/vrouwenconferentie-identiteit/
LOCATION:SIO Zwolle\, Thorbeckelaan 2\, Zwolle\, Overijssel\, 8014 AZ\, Nederland
CATEGORIES:Man / Vrouw
ATTACH;FMTTYPE=image/jpeg:https://gospelagenda.org/wp-content/uploads/2019/02/Vrouwenconferentie-Vrouwen-van-Wijsheid.jpg
ORGANIZER;CN="Bethesda%20Ministries":MAILTO:info@bethesdaministries.nl
END:VEVENT
END:VCALENDAR