BEGIN:VCALENDAR
VERSION:2.0
PRODID:-//Gospel Agenda - ECPv4.9.13//NONSGML v1.0//EN
CALSCALE:GREGORIAN
METHOD:PUBLISH
X-ORIGINAL-URL:https://gospelagenda.org
X-WR-CALDESC:Events for Gospel Agenda
BEGIN:VTIMEZONE
TZID:Europe/Paris
BEGIN:DAYLIGHT
TZOFFSETFROM:+0100
TZOFFSETTO:+0200
TZNAME:CEST
DTSTART:20160327T010000
END:DAYLIGHT
BEGIN:STANDARD
TZOFFSETFROM:+0200
TZOFFSETTO:+0100
TZNAME:CET
DTSTART:20161030T010000
END:STANDARD
END:VTIMEZONE
BEGIN:VEVENT
DTSTART;TZID=Europe/Paris:20160923T093000
DTEND;TZID=Europe/Paris:20160924T170000
DTSTAMP:20260426T002140
CREATED:20160507T194733Z
LAST-MODIFIED:20160510T200944Z
UID:137-1474623000-1474736400@gospelagenda.org
SUMMARY:Vrij Zijn Bevrijdingsconferentie September
DESCRIPTION:Vrij Zijn Bevrijdingsconferentie\nMet Wilkin van de Kamp en Rob van Zon \n‘De waarheid zal u vrijmaken!’\nJohannes 8:32 \nMerk jij dat je vastloopt in je leven? Ben je verstrikt geraakt in zonde\, leugen en emotionele- of demonische gebondenheid? Lukt het je maar niet om uit bepaalde patronen te breken en je wilt echt leven in vrijheid? Kom dan naar de tweedaagse bevrijdingsconferentie in Veenendaal. Je krijgt gezond en praktisch onderwijs over een leven in vrijheid en we gaan samen bidden dat God bevrijdt en herstelt! \nDe drie onderwijsdiensten op vrijdag bereiden je voor op de drie gebedsdiensten op zaterdag. Zorg dat je deze niet mist. Het is Gods wil dat jij in jouw door God gegeven bestemming gaat leven: je bent geboren om vrij te zijn! \nEr kunnen 600 mensen deelnemen aan deze conferentie. \nProgramma\n\n\n23 september 2016\n\n\n\n09:30 Opening zaal\n10:00 – 12:30 Onderwijsdienst 1:\nOnderwerp: ‘Gebonden door de macht van de zonde’\n12:30 – 13:30 Lunchpauze\n13:30 – 15:00 Onderwijsdienst 2:\nOnderwerp: ‘Gebonden door de leugen en door emotionele banden’\n15:00 – 15:30 Koffie/theepauze\n15:30 – 17:00 Onderwijsdienst 3:\nOnderwerp: ‘Gebonden door demonische banden’\n\n\n\n\n24 september 2016\n\n\n\n9:30 Opening zaal\n10:00 – 12:30 Gebedsdienst 1:\nOnderwerp: ‘Het wonder van vergeving’\n12:30 – 13:30 Lunchpauze\n13:30 – 15:00 Gebedsdienst 2:\nOnderwerp: ‘Het wonder van innerlijke genezing’\n15:00 – 15:30 Koffie/theepauze\n15:30 – 17:00 Gebedsdienst 3:\nOnderwerp: ‘Het wonder van bevrijding’\n\n\n
URL:https://gospelagenda.org/evenementen/vrij-bevrijdingsconferentie-september/
LOCATION:Baptistengemeente Veenendaal\, De Schutterij 2\, Veenendaal\, Utrecht\, 3905 PL\, Nederland
ATTACH;FMTTYPE=image/png:https://gospelagenda.org/wp-content/uploads/2016/04/logo-vrij-zijn-1.png
ORGANIZER;CN="Vrij%20Zijn":MAILTO:info@vrijzijn.net
END:VEVENT
END:VCALENDAR