BEGIN:VCALENDAR
VERSION:2.0
PRODID:-//Gospel Agenda - ECPv4.9.13//NONSGML v1.0//EN
CALSCALE:GREGORIAN
METHOD:PUBLISH
X-ORIGINAL-URL:https://gospelagenda.org
X-WR-CALDESC:Events for Gospel Agenda
BEGIN:VTIMEZONE
TZID:Europe/Paris
BEGIN:DAYLIGHT
TZOFFSETFROM:+0100
TZOFFSETTO:+0200
TZNAME:CEST
DTSTART:20160327T010000
END:DAYLIGHT
BEGIN:STANDARD
TZOFFSETFROM:+0200
TZOFFSETTO:+0100
TZNAME:CET
DTSTART:20161030T010000
END:STANDARD
END:VTIMEZONE
BEGIN:VEVENT
DTSTART;VALUE=DATE:20160902
DTEND;VALUE=DATE:20160905
DTSTAMP:20260425T222808
CREATED:20160515T154411Z
LAST-MODIFIED:20160515T154411Z
UID:428-1472774400-1473033599@gospelagenda.org
SUMMARY:Volleyfest 2016
DESCRIPTION:Volleyfest 2016\nOp 2\, 3 en 4 september is het Volleyfest 2016 op het christelijk recreatiepark ‘De Sikkenberg’. \n \nProgramma\nHet volledige programma van 2016 is nog niet helemaal bekend. We kunnen al wel bekend maken dat Athletes in Action net als vorig jaar het volleybaltoernooi komt organiseren. Verder kunnen we ook alvast de volgende artiesten bekend maken: \n\nDe Transform DJs  zijn dit jaar de headliner van het Volleyfest festival! Deze dj’s uit Denver Colorado (USA) zijn enorm in opkomst in Europa. Met optredens in Zwitserland\, Duitsland\, Finland\, Schotland\, Engeland\, België en ons eigen kikkerlandje zijn de dj´s enorm aan het groeien aan populariteit. In Nederland hadden ze hun eerste optreden in 2013 bij Afterbeat Veendam met de 2 dj´s Tim (DJ Omni) en Jonathan Burgess. Ondertussen hebben in Nederland ze op het EO Beam festival en het Graceland festival gestaan en is sinds 2015 Taylor Franklin de 3e dj van de Transform dj´s geworden. De dj´s hebben bewezen dat ze de voeten van jong & oud van de vloer kunnen krijgen met hun fantastische dance muziek. Maar het allerbelangrijkste is dat deze jongens jou als christen in aanbidding kunnen brengen op een ongekende manier.  Kortom deze act gaat de grond in Onstwedde laten beven!!!\nReyer  is al jaren aanbiddingsleider in zijn eigen gemeente. Rond zijn zeventiende jaar begon hij met het schrijven van liedjes. Vanaf dat moment ontwikkelde hij zich als songwriter en aanbiddingsleider en werd hij gevraagd op diverse plaatsen om zijn talent in te zetten. Naast aanbiddingsleider is Reyer ook dj. Dj Reyer maakt remixen van aanbiddingsliederen. De cover/remix Gods Great Dance Floor is al meer dan 180.000 keer bekeken op Youtube en inmiddels zijn twee van zijn remixen uitgebracht in de USA. Dit jaar won Reyer de Dove Awards.\nTafariz  is al jaren bekend in de regio. In Veendam treed hij jaarlijks op bij Stichting Afterbeat en uiteraard vorig jaar op ons eigen Volleyfest festival! Tafariz is beter bekend als MC Prophet maar mag helaas deze naam niet meer gebruiken. Dat weerhield Volleyfest niet om deze fanstastische artiest nogmaals uit te nodigen voor ons geweldige evenement! Reyer en Tafariz zijn trouwens geen onbekenden van elkaar. Beiden stonden ze vorig jaar op het hoofdpodium van de EO Jongerendag om de openingsact te verzorgen!\nJafeth & Sifra Bekx  hebben beiden een grote passie en liefde voor muziek. Zij zijn zelf in september 2012 getrouwd en zien het huwelijk als een prachtig cadeau wat hen is gegeven. Jafeth is conservatorium afgestudeerd op piano en zang. Sifra heeft door de jaren heen een prachtige stem ontwikkeld door op verschillende plekken te zingen. Jafeth en Sifra hebben ruime ervaring in samen muziek maken. Ze maken al jarenlang deel uit van de worship bandInSalvation.\nGerald Troost Gerald Troost is een bekende veelzijdige gospelartiest\, die de afgelopen jaren meer dan 100 nummers schreef en honderden concerten gaf. Hij trad onder andere op tijdens de EO-jongerendag\, het Flevo Festival en was te horen op Yorin\, Radio 2 en Radio 3 en nog vele andere omroepen en evenementen.\nLEV is een Nederlandse aanbiddingsband. De band wil graag kerken dienen in het samen zingen. Dit doen ze door het geven van concerten\, het leiden van aanbidding in kerken\, evenementen en conferenties én door het schrijven van nieuwe aanbiddingsliederen.\n\nTarieven Volleyfest 2016\nFestivalticket : € 25\,- . Met deze ticket heb je toegang tot het hele festival\, alle concerten en kan je deelnemen aan het volleybaltoernooi. Tevens is overnachten met deze ticket het hele festival gratis. \nDagkaart vrijdag: € 5\,- Deze geeft toegang tot het festival en het kampvuurconcert op vrijdag 2 september. Dagkaarten zijn te verkrijgen bij de kassa. \nDagkaart zaterdag: € 5\,-Deze geeft toegang tot het festival op zaterdag 3 september tot 19:00 uur. Deze geeft geen toegang tot het Volleyfestconcert op zaterdagavond. Dagkaarten zijn te verkrijgen bij de kassa. \nTicket muziekfestival: € 10\,-  Deze geeft toegang tot het muziekfestival op zaterdagavond 3 september. \nSing-in: De sing-in is op zondagmorgen 4 september en is gratis toegankelijk. Tijdens deze dienst is er wel een collecte. \n
URL:https://gospelagenda.org/evenementen/volleyfest-2016/
LOCATION:Camping de Sikkenberg\, Sikkenbergweg 7\, 9591 TD\, Onstwedde\, Groningen\, 9591 TD\, Nederland
ATTACH;FMTTYPE=image/jpeg:https://gospelagenda.org/wp-content/uploads/2016/05/Volleyfest-2016.jpg
ORGANIZER;CN="Volleyfest":MAILTO:info@volleyfest.nl
END:VEVENT
END:VCALENDAR