BEGIN:VCALENDAR
VERSION:2.0
PRODID:-//Gospel Agenda - ECPv4.9.13//NONSGML v1.0//EN
CALSCALE:GREGORIAN
METHOD:PUBLISH
X-ORIGINAL-URL:https://gospelagenda.org
X-WR-CALDESC:Events for Gospel Agenda
BEGIN:VTIMEZONE
TZID:Europe/Paris
BEGIN:DAYLIGHT
TZOFFSETFROM:+0100
TZOFFSETTO:+0200
TZNAME:CEST
DTSTART:20190331T010000
END:DAYLIGHT
BEGIN:STANDARD
TZOFFSETFROM:+0200
TZOFFSETTO:+0100
TZNAME:CET
DTSTART:20191027T010000
END:STANDARD
END:VTIMEZONE
BEGIN:VEVENT
DTSTART;TZID=Europe/Paris:20190322T193000
DTEND;TZID=Europe/Paris:20190323T213000
DTSTAMP:20260425T222107
CREATED:20190131T051751Z
LAST-MODIFIED:20190204T010304Z
UID:1559-1553283000-1553376600@gospelagenda.org
SUMMARY:Victory Harderwijk
DESCRIPTION:Victory Harderwijk\nOp vrijdag 22 en zaterdag 23 maart 2019 zal de 2e editie van VICTORY plaatsvinden in het Dolfinarium in Harderwijk. Hetzelfde concept\, dezelfde Bijbel als basis\, een nieuw verhaal! \nVICTORY is een avondvullende theater- en muziekvoorstelling waarin het Bijbelverhaal centraal staat. Je wordt meegenomen vanaf de schepping en ziet hoe het leven van mensen daarna verliep. Je maakt mee wie Jezus is en wat hij heeft gedaan. En hoe het verhaal nu en zelfs in de toekomst verder gaat. \nLaat je verrassen door een unieke combinatie van kunstvormen. Hedendaagse (christelijke) muziek\, zang\, dans\, theater\, beeldende kunst en film vertolken het verhaal van God die er altijd is\, was en zal zijn. \nAan deze prachtige voorstelling werken (bekende) christelijke artiesten mee\, zoals de Zandtovenaar\, Elvis E.\, Larissa Baak\, Hanne de Vries\, Jonathan Vroege en gospelkoor Grace & Glory o.l.v. Talitha Nawijn. En natuurlijk hebben ook de dolfijnen een plekje in het geheel! \nVICTORY is een bijzondere belevenis voor jong en oud; of je nu het Bijbelverhaal al kent of nog niet. Dus kom met je buren\, familie\, vrienden en/of collega’s en beleef samen VICTORY! \nMet optredens van o.a.: \n• Zandtovenaar Gert van der Vijver\n• Elvis E.\n• Larissa Baak\n• Hanne de Vries\n• Jonathan Vroege\n• Myrthe van Hulst\n• Gospelkoor ‘Grace and Glory’ (o.l.v. Talitha Nawijn)\n• VICTORY-band (o.b.v. Joël Slagtand)\n• VICTORY kinderkoor\n• Dans en theaterstudio Annemieke Bais\n• Theaterwerkplaats Orde der Dwazen\n• Marieke Sleurink e.a. \nDe voorstelling begint om 19.30 uur\, deuren gaan open vanaf 18.45 uur. Het programma heeft geen pauze. De verwachte eindtijd is 21.30 uur. Kaarten kosten € 19\,50 per stuk. Opbrengsten gaan naar diverse goede doelen (vorig jaar o.a. Stichting Present en de Oude Synagoge). \n \nData & Tijden:\n\n22 maart van 19u30 tot ongeveer 21u30\n23 maart van 19u30 tot ongeveer 21u30\n\n
URL:https://gospelagenda.org/evenementen/victory-harderwijk/
LOCATION:Dolfinarium Harderwijk\, Zuiderzeeboulevard 22\, Harderwijk\, Gelderland\, 3841 WB\, Nederland
CATEGORIES:Festivals
ATTACH;FMTTYPE=image/png:https://gospelagenda.org/wp-content/uploads/2019/01/Victory-Harderwijk-2019-768x1080px.png
ORGANIZER;CN="Stichting%20Victory%20Harderwijk":MAILTO:info@victoryharderwijk.nl
END:VEVENT
END:VCALENDAR