BEGIN:VCALENDAR
VERSION:2.0
PRODID:-//Gospel Agenda - ECPv4.9.13//NONSGML v1.0//EN
CALSCALE:GREGORIAN
METHOD:PUBLISH
X-ORIGINAL-URL:https://gospelagenda.org
X-WR-CALDESC:Events for Gospel Agenda
BEGIN:VTIMEZONE
TZID:Europe/Paris
BEGIN:DAYLIGHT
TZOFFSETFROM:+0100
TZOFFSETTO:+0200
TZNAME:CEST
DTSTART:20190331T010000
END:DAYLIGHT
BEGIN:STANDARD
TZOFFSETFROM:+0200
TZOFFSETTO:+0100
TZNAME:CET
DTSTART:20191027T010000
END:STANDARD
END:VTIMEZONE
BEGIN:VEVENT
DTSTART;TZID=Europe/Paris:20190419T194500
DTEND;TZID=Europe/Paris:20190419T213000
DTSTAMP:20260425T210618
CREATED:20190417T205003Z
LAST-MODIFIED:20190417T205003Z
UID:2886-1555703100-1555709400@gospelagenda.org
SUMMARY:Touching Heaven Night
DESCRIPTION:Touching Heaven Night\nOp Goede Vrijdag staan we stil bij wat Jezus voor ons heeft gedaan tijdens een Touching Heaven Night. Hier nemen we de tijd voor extra worship\, gebed en avondmaal. De deuren gaan om 19.45 uur open. \n\n
URL:https://gospelagenda.org/evenementen/touching-heaven-night/
LOCATION:City Life Church Den Haag\, Escamplaan 280\, Den Haag\, Zuid-Holland\, 2547 GP\, Nederland
CATEGORIES:Anders,Speciale Diensten
ATTACH;FMTTYPE=image/jpeg:https://gospelagenda.org/wp-content/uploads/2019/04/City-Live-Church.jpg
END:VEVENT
END:VCALENDAR