BEGIN:VCALENDAR
VERSION:2.0
PRODID:-//Gospel Agenda - ECPv4.9.13//NONSGML v1.0//EN
CALSCALE:GREGORIAN
METHOD:PUBLISH
X-ORIGINAL-URL:https://gospelagenda.org
X-WR-CALDESC:Events for Gospel Agenda
BEGIN:VTIMEZONE
TZID:Europe/Paris
BEGIN:DAYLIGHT
TZOFFSETFROM:+0100
TZOFFSETTO:+0200
TZNAME:CEST
DTSTART:20190331T010000
END:DAYLIGHT
BEGIN:STANDARD
TZOFFSETFROM:+0200
TZOFFSETTO:+0100
TZNAME:CET
DTSTART:20191027T010000
END:STANDARD
END:VTIMEZONE
BEGIN:VEVENT
DTSTART;TZID=Europe/Paris:20190215T100000
DTEND;TZID=Europe/Paris:20190215T163000
DTSTAMP:20260425T215412
CREATED:20190119T214816Z
LAST-MODIFIED:20190119T215606Z
UID:1349-1550224800-1550248200@gospelagenda.org
SUMMARY:There is more! Next - Hardinxveld
DESCRIPTION:\n\n\n\n\n\nThere Is More! Next – Hardinxveld\n\n\n\n\n\n\n\n\n\n\n\n\nThere is More Next is bedoeld om onderwijs te ontvangen over de persoon en het werk van de Heilige Geest. Op deze dagen zien we dat mensen worden bekrachtigd door de liefdevolle aanraking van God en worden toegerust om als discipel van Jezus te leven. \n\n\n\n\n\n\nErvaring opdoen\nMet There is More! Next Hardinxveld bieden we je een ervaringsplek in een vertrouwde omgeving waar je stevig onderwijs ontvangt over het werk van de Heilige Geest en waar je kan groeien in een diepere relatie met Christus. We bieden bewust veel ruimte om voor je te laten bidden. \nGod spreekt\nMet de komst van There is More zien we in veel kerken en onder vele christenen de aandacht voor Gods spreken en voor de werken van de Heilige Geest toenemen. Die beweging\, waarin jij God ook ervaart en waarin Zijn spreken door Woord & Geest centraal staat\, willen we verder stimuleren. \n\n\n\n\n\n\n\nOver Next!\n\n\nMet There is More! Next biedt het Evangelisch Werkverband\, naast de grote\, landelijke conferentie in het najaar\, ook in de regio momenten van praktisch onderwijs\, bemoediging en gebed. \n\n\n\n\n\n\n\n\n\n\n\n\n\n\n\n\n\n
URL:https://gospelagenda.org/evenementen/there-is-more-next-hardinxveld/
LOCATION:Zalencentrum De Parel\, Talmastraat 9\, Hardinxveld-Giessendam\, Zuid-Holland\, 3371 VG\, Nederland
CATEGORIES:Conferenties
ATTACH;FMTTYPE=image/png:https://gospelagenda.org/wp-content/uploads/2019/01/There-is-more-Next.png
ORGANIZER;CN="Evangelisch%20Werkverband":MAILTO:info@ewv.nl
END:VEVENT
END:VCALENDAR