BEGIN:VCALENDAR
VERSION:2.0
PRODID:-//Gospel Agenda - ECPv4.9.13//NONSGML v1.0//EN
CALSCALE:GREGORIAN
METHOD:PUBLISH
X-ORIGINAL-URL:https://gospelagenda.org
X-WR-CALDESC:Events for Gospel Agenda
BEGIN:VTIMEZONE
TZID:Europe/Paris
BEGIN:DAYLIGHT
TZOFFSETFROM:+0100
TZOFFSETTO:+0200
TZNAME:CEST
DTSTART:20190331T010000
END:DAYLIGHT
BEGIN:STANDARD
TZOFFSETFROM:+0200
TZOFFSETTO:+0100
TZNAME:CET
DTSTART:20191027T010000
END:STANDARD
END:VTIMEZONE
BEGIN:VEVENT
DTSTART;TZID=Europe/Paris:20190330T093000
DTEND;TZID=Europe/Paris:20190330T170000
DTSTAMP:20260425T235839
CREATED:20190105T210015Z
LAST-MODIFIED:20190105T210015Z
UID:1012-1553938200-1553965200@gospelagenda.org
SUMMARY:Themaconferentie: Wie je bent in Christus
DESCRIPTION:Themaconferentie: Wie je bent in Christus\nMet Wilkin van de Kamp en Gerdien Lammers\nZaterdag 30 maart 2019 – Lelystad \n \nBinnen vijf jaar verscheen de achtste druk van het boek ‘Wie je bent in Christus’ (totaal: 20.000 exemplaren). Deze cijfers vertellen ons dat dit een actueel thema is. Op zaterdag 30 maart 2019 zal Wilkin – in samenwerking met Gerdien Lammers – in drie sessies uitleggen wie je bent in Christus. \nWilkin: ‘God biedt je een onverwoestbare identiteit aan\, waar niemand iets van af kan doen en waar niemand iets aan kan toevoegen. Het is je gloednieuwe identiteit in Christus. Ik heb ontdekt dat het er vooral omgaat dat je weet hoe God naar je kijkt als je ‘in Christus’ bent. ‘In Christus’ vorm je een onverbrekelijke eenheid met Jezus en word je bijzonder waardevol in Gods ogen. Jezus en ik zijn zo met elkaar verbonden dat God altijd eerst Jezus in mij ziet en dan pas mij! Daarom kan Hij zijn ogen niet van mij afhouden! Als je gaat ontdekken wie je bent ‘in Christus’ zul je op elk terrein van je leven in kracht en overwinning wandelen. Stop ermee om je oude identiteit op te poetsen en ga genieten van je gloednieuwe identiteit ‘in Christus’. Je zult er een mooier mens van worden!’ \nIn drie samenkomsten leggen Wilkin en Gerdien op een aansprekende manier uit wie je bent in Christus en willen ze je helpen – in woord en gebed – om je nieuwe identiteit in Christus te ontvangen. Je bent van harte welkom!\n \nLocatie: De Pijler\, Ketelmeerstraat 90\, 8226 JX\, Lelystad\nKosten: Deze conferentie is gratis (inclusief koffie/thee en lunch). \nEr kunnen 1.100 mensen deelnemen aan deze conferentie.\n \n\n\n\n\nDagprogramma 30 maart 2019\n\n\n09:30 Opening zaal\n10:00 – 12:30 Sessie 1:\nSpreker: Wilkin van de Kamp\nOnderwerp: ‘In Christus kan God zijn ogen niet van je afhouden!’\n12:30 – 13:30 Lunchpauze\n13:30 – 15:00 Sessie 2:\nSpreker: Gerdien Lammers\nOnderwerp: ‘In Christus ben je de bron van Gods vreugde.’\n15:00 – 15:30 Koffie/theepauze\n15:30 – 17:00 Sessie 3:\nSpreker: Wilkin van de Kamp\nOnderwerp: ‘In Christus ben je niet langer een slaaf van de zonde!’\n\n\n\n\n
URL:https://gospelagenda.org/evenementen/themaconferentie-wie-je-bent-in-christus/
LOCATION:De Pijler\, Ketelmeerstraat 90\, Lelystad\, Flevoland\, 8226 JX\, Nederland
CATEGORIES:Conferenties
ATTACH;FMTTYPE=image/png:https://gospelagenda.org/wp-content/uploads/2019/01/Vrij-Zijn-wjbic-mrt-2019.png
ORGANIZER;CN="Vrij%20Zijn":MAILTO:info@vrijzijn.net
END:VEVENT
END:VCALENDAR