BEGIN:VCALENDAR
VERSION:2.0
PRODID:-//Gospel Agenda - ECPv4.9.13//NONSGML v1.0//EN
CALSCALE:GREGORIAN
METHOD:PUBLISH
X-ORIGINAL-URL:https://gospelagenda.org
X-WR-CALDESC:Events for Gospel Agenda
BEGIN:VTIMEZONE
TZID:Europe/Helsinki
BEGIN:DAYLIGHT
TZOFFSETFROM:+0200
TZOFFSETTO:+0300
TZNAME:EEST
DTSTART:20190331T010000
END:DAYLIGHT
BEGIN:STANDARD
TZOFFSETFROM:+0300
TZOFFSETTO:+0200
TZNAME:EET
DTSTART:20191027T010000
END:STANDARD
END:VTIMEZONE
BEGIN:VEVENT
DTSTART;TZID=Europe/Helsinki:20191222T200000
DTEND;TZID=Europe/Helsinki:20191222T213000
DTSTAMP:20260425T215606
CREATED:20191030T155252Z
LAST-MODIFIED:20191030T155252Z
UID:4543-1577044800-1577050200@gospelagenda.org
SUMMARY:The Sound of Christmas - Show #2
DESCRIPTION:The Sound of Christmas\nOp 22 december om 17.00 uur en om 20.00 uur begint je kerst goed in Theater De Stoep. Ook dit jaar organiseren we weer een nieuwe editie van The Sound of Christmas met bekende en minder bekende kerstliederen. Gospelkoor Crossroads zingt\, maar ook het publiek kan een bijdrage hebben in het programma. De muziek wordt omgeven door een verhaal ‘met een knipoog’ en een kerstboodschap. Dit jaar verleent MusicAll haar medewerking op verrassende en uiteraard muzikale wijze. \nTwee inmiddels bekende groepen uit Spijkenisse en omgeving zorgen voor een avond vol oude vertrouwde en modernere kerstliederen. \nVol=vol\nHet thema is eeuwenoud en actueel tegelijk: vol = vol. Een bijzonder rekensommetje dat politiek behoorlijk wat stof op heeft doen waaien de afgelopen jaren. Nieuw is de gedachte echter niet. De herbergier die Jozef en Maria naar een stal verwees vond het ook: in zijn herberg was geen ruimte voor een hoogzwangere vreemdeling en haar man. Ze moesten maar in een dierenverblijf overnachten. \nDat idee heeft hem geen windeieren gelegd\, hoorden we vorig jaar al: een keten van herbergen ontstond (The Holy Stables)\, omdat iedereen wel wil overnachten op de plaats waar Jezus is geboren. Het gaat de herbergier voor de wind. Dit jaar vertelt hij hoe ‘vol = vol’ helemaal past in zijn leven – en volgens hem ook in dat van ons. \nEr is nóg een gast\, die ook een rekensommetje maakt. Een iets ander sommetje\, maar net zo wáár. Reken maar dat het een avond wordt vol zang\, muziek en kerstsfeer. \nKaarten\nDe kaarten zijn verkrijgbaar via theater De Stoep\, zowel online als aan de kassa van het theater. Zie ook onderstaand\, bij de website van het evenement. \n
URL:https://gospelagenda.org/evenementen/the-sound-of-christmas-show-2/
LOCATION:Theater de Stoep (Spijkenisse)\, Theaterplein 1\, Spijkenisse\, Zuid-Holland\, 3201 DH\, Nederland
CATEGORIES:Anders,Praise & Worship,Speciale Diensten
ATTACH;FMTTYPE=image/jpeg:https://gospelagenda.org/wp-content/uploads/2019/10/The-Sound-of-Christmas-Spijkenisse.jpg
ORGANIZER;CN="The%20Sound%20of%20Christmas%20%28TSoC%29%20Spijkenisse":MAILTO:soundofchristmas.spijkenisse@gmail.com
END:VEVENT
END:VCALENDAR