BEGIN:VCALENDAR
VERSION:2.0
PRODID:-//Gospel Agenda - ECPv4.9.13//NONSGML v1.0//EN
CALSCALE:GREGORIAN
METHOD:PUBLISH
X-ORIGINAL-URL:https://gospelagenda.org
X-WR-CALDESC:Events for Gospel Agenda
BEGIN:VTIMEZONE
TZID:Europe/Paris
BEGIN:DAYLIGHT
TZOFFSETFROM:+0100
TZOFFSETTO:+0200
TZNAME:CEST
DTSTART:20190331T010000
END:DAYLIGHT
BEGIN:STANDARD
TZOFFSETFROM:+0200
TZOFFSETTO:+0100
TZNAME:CET
DTSTART:20191027T010000
END:STANDARD
END:VTIMEZONE
BEGIN:VEVENT
DTSTART;TZID=Europe/Paris:20190427T100000
DTEND;TZID=Europe/Paris:20190501T170000
DTSTAMP:20260425T215605
CREATED:20190426T052110Z
LAST-MODIFIED:20190426T052110Z
UID:3032-1556359200-1556730000@gospelagenda.org
SUMMARY:The Holy Spirit\, Gifts and Healings
DESCRIPTION:The Holy Spirit\, Gifts and Healings\nDe Heilige Geest is altijd en overal aanwezig\, maar Hij wordt niet altijd ervaren. Stefaan Hugo spreekt over de Heilige Geest\, gaven en genezing. Stefaan heeft een passie om dat wat bevroren is\, weer te laten stromen. Bent u benieuwd naar de Heilige Geest\, gaven en genezing? Dan bent u van harte welkom voor zijn seminar op Koningsdag (27 april)\, of voor de open week van 29 april tot 3 mei. \nData en tijden\n\n27 april 10u00 – 16u00 (aparte seminardag)\n29 april 08u30 – 17u00 (open week)\n30 april 08u30 – 17u00 (open week)\n1 mei 08u30 – 17u00 (open week)\n2 mei 08u30 – 17u00 (open week)\n3 mei 08u30 – 17u00 (open week)\n\nAanmelden\nLaat u het weten als u komt? U kunt zich aanmelden via prayerworship@ywam.nl \n
URL:https://gospelagenda.org/evenementen/the-holy-spirit-gifts-and-healings/
LOCATION:YWAM Heidebeek\, Mussenkampseweg 32\, Heerde\, Gelderland\, 8181 PK\, Netherlands
CATEGORIES:Conferenties,Training
ATTACH;FMTTYPE=image/jpeg:https://gospelagenda.org/wp-content/uploads/2019/04/The-Holy-Spirit-Gifts-and-Healings.jpg
ORGANIZER;CN="YWAM%20Heidebeek":MAILTO:heidebeek@ywam.nl
END:VEVENT
END:VCALENDAR