BEGIN:VCALENDAR
VERSION:2.0
PRODID:-//Gospel Agenda - ECPv4.9.13//NONSGML v1.0//EN
CALSCALE:GREGORIAN
METHOD:PUBLISH
X-ORIGINAL-URL:https://gospelagenda.org
X-WR-CALDESC:Events for Gospel Agenda
BEGIN:VTIMEZONE
TZID:Europe/Paris
BEGIN:DAYLIGHT
TZOFFSETFROM:+0100
TZOFFSETTO:+0200
TZNAME:CEST
DTSTART:20190331T010000
END:DAYLIGHT
BEGIN:STANDARD
TZOFFSETFROM:+0200
TZOFFSETTO:+0100
TZNAME:CET
DTSTART:20191027T010000
END:STANDARD
END:VTIMEZONE
BEGIN:VEVENT
DTSTART;TZID=Europe/Paris:20190530T193000
DTEND;TZID=Europe/Paris:20190602T140000
DTSTAMP:20260425T233804
CREATED:20190523T071922Z
LAST-MODIFIED:20190523T071922Z
UID:3455-1559244600-1559484000@gospelagenda.org
SUMMARY:The Father's Voice Conference 2019
DESCRIPTION:The Father’s Voice Conference 2019\n“This conference helps us to hear the voice of our Father to become even more rooted in Him and His Word.” \nSprekers\n\nApostel Jehonathan Abrahams (Zuid Afrika)\nApostel Daryl O’Neil (V.S.)\nApostel Melvin Abrahams (Zuid Afrika)\nApostel Arleen Westerhof (Nederland\, Amsterdam)\nHosts: Stefan & Melvina Lakhichand (Pastors bij Heaven Designed Life Church)\n\nAlgemene informatie\nRegistreer je voor de conferentie\, via de website van het evenement (zie onderstaand). De kosten bedragen slechts €50\, dit is inclusief alle studiematerialen\, hapjes en dranken. Lunch en avondeten worden niet verzorgd. De meetings in de avond op donderdag en vrijdag zijn gratis toegankelijk. Er zal dan wel een offer worden opgehaald. De conferentie zal Engelstalig zijn. \nProgramma\n\nDonderdag 30 mei 19:30 – 21:30\nVrijdag 31 mei 10:00 – 21:30\nZaterdag 1 juni 10:00 – 17:00\nZondag 2 juni 11:00 – 14:00\n\nLocaties\nLET OP: er zijn twee locaties voor deze conferentie! \n\nDonderdag – Zaterdag: Spoorlaan 2\, 2908 BG\, Capelle aan den Ijssel\nZondag: Heaven Designed Life church\, Pretorialaan 141\, 3072EL Rotterdam\n\n* Beide locaties zijn zeer goed te bereiken met het openbaar vervoer en hebben gratis nabij gelegen parkeerplaatsen. \n
URL:https://gospelagenda.org/evenementen/the-fathers-voice-conference-2019/
LOCATION:Claypot Church (Capelle aan den IJssel)\, Spoorlaan 2\, Capelle aan den IJssel\, Zuid-Holland\, 2908 BG\, Nederland
CATEGORIES:Conferenties,Leiderschap,Ministry,Training
ATTACH;FMTTYPE=image/jpeg:https://gospelagenda.org/wp-content/uploads/2019/05/The-Fathers-Voice.jpg
ORGANIZER;CN="Heaven%20Designed%20Life":MAILTO:office@hd-life.org
END:VEVENT
END:VCALENDAR