BEGIN:VCALENDAR
VERSION:2.0
PRODID:-//Gospel Agenda - ECPv4.9.13//NONSGML v1.0//EN
CALSCALE:GREGORIAN
METHOD:PUBLISH
X-ORIGINAL-URL:https://gospelagenda.org
X-WR-CALDESC:Events for Gospel Agenda
BEGIN:VTIMEZONE
TZID:Europe/Paris
BEGIN:DAYLIGHT
TZOFFSETFROM:+0100
TZOFFSETTO:+0200
TZNAME:CEST
DTSTART:20190331T010000
END:DAYLIGHT
BEGIN:STANDARD
TZOFFSETFROM:+0200
TZOFFSETTO:+0100
TZNAME:CET
DTSTART:20191027T010000
END:STANDARD
END:VTIMEZONE
BEGIN:VEVENT
DTSTART;TZID=Europe/Paris:20190313T193000
DTEND;TZID=Europe/Paris:20190313T213000
DTSTAMP:20260425T204658
CREATED:20190306T075023Z
LAST-MODIFIED:20190306T075023Z
UID:2156-1552505400-1552512600@gospelagenda.org
SUMMARY:Supernatural Revival Meeting Maart
DESCRIPTION:Supernatural Revival Meeting\n– Een krachtige gebedsavond\, waar de Geest van God wonderbaarlijke dingen doet \nSupernatural Revival Meetings kenmerken zich door de korte en zeer krachtige studies die vaak grote impact hebben op levens en situaties van mensen. Daarnaast wordt er ruim de tijd genomen om de Heilige Geest Zijn werk te laten doen. Het resultaat hiervan is\, dat mensen  gesterkt\, opgebouwd\, bemoedigd\, bekrachtigd en bevestigd worden in hun wandel als gelovige. \nNog nooit een Supernatural Revival Meeting bezocht? Het is meer dan de moeite waard\, om deze avonden te bezoeken en Gods grote\, reële kracht te ervaren en de beweging van Zijn Geest! \n \n
URL:https://gospelagenda.org/evenementen/supernatural-revival-meeting-maart/
LOCATION:De Dome\, C. Villeriuslaan 12\, Spijkenisse\, Zuid-Holland\, 3201 KV\, Nederland
CATEGORIES:Ministry,Praise & Worship,Speciale Diensten
ATTACH;FMTTYPE=image/png:https://gospelagenda.org/wp-content/uploads/2019/01/2013_lsm_logo_webadres_DEF_150dpi.png
ORGANIZER;CN="Levende%20Steen%20Ministries":MAILTO:info@levendesteenministries.nl
END:VEVENT
END:VCALENDAR