BEGIN:VCALENDAR
VERSION:2.0
PRODID:-//Gospel Agenda - ECPv4.9.13//NONSGML v1.0//EN
CALSCALE:GREGORIAN
METHOD:PUBLISH
X-ORIGINAL-URL:https://gospelagenda.org
X-WR-CALDESC:Events for Gospel Agenda
BEGIN:VTIMEZONE
TZID:Europe/Paris
BEGIN:DAYLIGHT
TZOFFSETFROM:+0100
TZOFFSETTO:+0200
TZNAME:CEST
DTSTART:20190331T010000
END:DAYLIGHT
BEGIN:STANDARD
TZOFFSETFROM:+0200
TZOFFSETTO:+0100
TZNAME:CET
DTSTART:20191027T010000
END:STANDARD
END:VTIMEZONE
BEGIN:VEVENT
DTSTART;TZID=Europe/Paris:20190513T100000
DTEND;TZID=Europe/Paris:20190513T133000
DTSTAMP:20260425T225033
CREATED:20190419T105158Z
LAST-MODIFIED:20190419T105158Z
UID:2905-1557741600-1557754200@gospelagenda.org
SUMMARY:Studiebijeenkomst 'Jongeren en de preek'
DESCRIPTION:Studiebijeenkomst ‘Jongeren en de preek’\nJongeren en de preek\, niet de gemakkelijkste combinatie. Hoe zorg je als predikant dat jongeren zich betrokken weten bij de preek? Die vraag staat centraal op maandag 13 mei\, tijdens een studiebijeenkomst in IJsselmuiden. Wegens groot succes wordt het programma dat in oktober in Sliedrecht werd georganiseerd\, herhaald. De bijeenkomst is bedoeld voor predikanten in de breedte van de Protestantse Kerk en wordt georganiseerd door Jong Protestant (JOP)\, in samenwerking met de HGJB en de IZB. \nProgramma\nAan het woord komen onder anderen Nelleke Plomp (specialist vieren bij JOP)\, die onderzoek deed naar dit onderwerp en dr. Kees van Ekris\, verbonden aan Areopagus\, centrum voor contextuele en missionaire prediking. Daarnaast is er ruimte voor gesprek en uitwisseling. De bijeenkomst duurt van 10.00 tot 13.30 uur; voor lunch wordt gezorgd. \nAanmelden\nMeld je aan via de website van het evenement. \n
URL:https://gospelagenda.org/evenementen/studiebijeenkomst-jongeren-en-de-preek/
LOCATION:Hoeksteen (IJsselmuiden)\, Goudplevier 103\, IJsselmuiden\, Overijssel\, 8271 GB\, Netherlands
CATEGORIES:Leiderschap,Training
ATTACH;FMTTYPE=image/jpeg:https://gospelagenda.org/wp-content/uploads/2019/04/Studiebijeenkomst-Jongeren-en-de-preek.jpg
ORGANIZER;CN="Jong%20Protestanten%20%28JOP%29":MAILTO:info@jop.nl
END:VEVENT
END:VCALENDAR