BEGIN:VCALENDAR
VERSION:2.0
PRODID:-//Gospel Agenda - ECPv4.9.13//NONSGML v1.0//EN
CALSCALE:GREGORIAN
METHOD:PUBLISH
X-ORIGINAL-URL:https://gospelagenda.org
X-WR-CALDESC:Events for Gospel Agenda
BEGIN:VTIMEZONE
TZID:Europe/Paris
BEGIN:DAYLIGHT
TZOFFSETFROM:+0100
TZOFFSETTO:+0200
TZNAME:CEST
DTSTART:20190331T010000
END:DAYLIGHT
BEGIN:STANDARD
TZOFFSETFROM:+0200
TZOFFSETTO:+0100
TZNAME:CET
DTSTART:20191027T010000
END:STANDARD
END:VTIMEZONE
BEGIN:VEVENT
DTSTART;VALUE=DATE:20190530
DTEND;VALUE=DATE:20190603
DTSTAMP:20260425T203946
CREATED:20190224T064920Z
LAST-MODIFIED:20190224T064920Z
UID:2020-1559174400-1559519999@gospelagenda.org
SUMMARY:Strandheem Festival
DESCRIPTION:Strandheem Festival\n\n\nStrandheem Festival is een 4-daags festival in het noorden van het land\, dat elk jaar gehouden wordt in het Hemelvaartweekend. Op het grote gezellige festivalterrein staan vele tenten en er worden doorlopend activiteiten gehouden\, zoals gospel-/praise diensten\, concerten\, gezinsdiensten\, een jongerenprogramma\, workshops\, seminars en diverse kinderactiviteiten. Elk jaar komen vele bekende bands en sprekers naar het Strandheem Festival. \nOp het terrein is doorlopende catering en er zijn ook diverse foodtrucks. Vele bedrijven en organisaties zijn met een kraampje of stand aanwezig op het festival. De toegang tot het festival is gratis en er is voldoende gratis parkeergelegenheid. Dit is mogelijk dankzij alle (300!) vrijwilligers en de vele sponsors die het evenement financieel steunen. In 2019 vindt het Strandheem Festival plaats van 30 mei t/m 2 juni. \n  \n\n\nThema van Strandheem Festival 2019\nTijdens Strandheem Festival 2019 laten we ons inspireren door het thema: “TOUCH OF HEAVEN\, open je hart”. Voor de één is een aanraking van de hemel iets dat ze al hebben mogen ervaren\, voor de ander is het slechts een droom of verlangen. We hopen dat jij God beter mag leren kennen door de muziek\, overdenkingen\, seminars of ontmoetingen tijdens het festival. We bidden dat je verlangen naar God steeds groter wordt\, dat je je hart durft te openen en iets mag ervaren van Zijn aanraking. \nSamen met het team van vrijwilligers kijken we hoopvol uit naar wat God dit jaar zal doen op het Strandheem Festival! \n\n\n\n\n
URL:https://gospelagenda.org/evenementen/strandheem-festival/
LOCATION:Kolonieweg Opende\, Kolonieweg\, Opende\, Groningen\, 9865 VX\, Nederland
CATEGORIES:Festivals
ATTACH;FMTTYPE=image/jpeg:https://gospelagenda.org/wp-content/uploads/2019/02/thema-2019-strandheem-festival.jpg
ORGANIZER;CN="Strandheem%20Festival":MAILTO:info@strandheemfestival.nl
END:VEVENT
END:VCALENDAR