BEGIN:VCALENDAR
VERSION:2.0
PRODID:-//Gospel Agenda - ECPv4.9.13//NONSGML v1.0//EN
CALSCALE:GREGORIAN
METHOD:PUBLISH
X-ORIGINAL-URL:https://gospelagenda.org
X-WR-CALDESC:Events for Gospel Agenda
BEGIN:VTIMEZONE
TZID:Europe/Paris
BEGIN:DAYLIGHT
TZOFFSETFROM:+0100
TZOFFSETTO:+0200
TZNAME:CEST
DTSTART:20190331T010000
END:DAYLIGHT
BEGIN:STANDARD
TZOFFSETFROM:+0200
TZOFFSETTO:+0100
TZNAME:CET
DTSTART:20191027T010000
END:STANDARD
END:VTIMEZONE
BEGIN:VEVENT
DTSTART;TZID=Europe/Paris:20190420T200000
DTEND;TZID=Europe/Paris:20190420T223000
DTSTAMP:20260425T210719
CREATED:20190309T155317Z
LAST-MODIFIED:20190309T155317Z
UID:2315-1555790400-1555799400@gospelagenda.org
SUMMARY:Stille Zaterdag in de Basiliek
DESCRIPTION:Stille Zaterdag in de Basiliek\nStille zaterdag concert met Gerald Troost\, Rikkert Zuiderveld en Mirjam van der Vegt \nOp Stille Zaterdag 2019\, midden tussen Goede Vrijdag en het feest van Pasen is er een avond van rust\, klein gebrachte muziek en overdenking. Een indrukwekkende avond met ruimte voor grote diversiteit. Rikkert Zuiderveld brengt met zijn vaste kompaan accordeonist/toetsenist\, Jan Borger\, een aantal songs met zijn doordachte\, soms schurende\, maar altijd rake teksten. Gerald Troost brengt in zijn herkenbare\, gevoelige stijl een serie indrukwekkende ballads. En tussen die muziek door is er spreekster Mirjam van der Vegt\, onder andere bekend van haar stiltetour\, die het publiek even stil zet. Mirjam is schrijfster\, spreker en stiltetrainer. \n
URL:https://gospelagenda.org/evenementen/stille-zaterdag-in-de-basiliek/
LOCATION:De Basiliek (Veenendaal)\, Wiltonstraat 56\, Veenendaal\, Utrecht\, 3905 KW\, Nederland
CATEGORIES:Praise & Worship
ATTACH;FMTTYPE=image/jpeg:https://gospelagenda.org/wp-content/uploads/2019/03/Stille-Zaterdag.jpg
ORGANIZER;CN="Zingen%20in%20de%20Kerk":MAILTO:info@zingenindekerk.nl
END:VEVENT
END:VCALENDAR