BEGIN:VCALENDAR
VERSION:2.0
PRODID:-//Gospel Agenda - ECPv4.9.13//NONSGML v1.0//EN
CALSCALE:GREGORIAN
METHOD:PUBLISH
X-ORIGINAL-URL:https://gospelagenda.org
X-WR-CALDESC:Events for Gospel Agenda
BEGIN:VTIMEZONE
TZID:Europe/Paris
BEGIN:DAYLIGHT
TZOFFSETFROM:+0100
TZOFFSETTO:+0200
TZNAME:CEST
DTSTART:20190331T010000
END:DAYLIGHT
BEGIN:STANDARD
TZOFFSETFROM:+0200
TZOFFSETTO:+0100
TZNAME:CET
DTSTART:20191027T010000
END:STANDARD
END:VTIMEZONE
BEGIN:VEVENT
DTSTART;TZID=Europe/Paris:20190524T190000
DTEND;TZID=Europe/Paris:20190524T220000
DTSTAMP:20260425T233836
CREATED:20190413T084701Z
LAST-MODIFIED:20190414T191615Z
UID:2832-1558724400-1558735200@gospelagenda.org
SUMMARY:Soul Prayer and Worship Night
DESCRIPTION:Soul Prayer and Worship Night\nDe ultime ‘afterparty’ van het Soul Survivor Festival 2019: De Soul Prayer & Worship Night van Mei! We hopen jullie daar te zien en nieuwe mensen te ontmoeten in Rotterdam! De inloop is vanaf 19:00u\, om 19:30u start de avond. \n  \nLocatie\nDit evenement wordt in Rotterdam georganiseerd. De exacte locatie wordt nader bekend gemaakt. \n  \nOver Soul Survivor\nSoul Survivor heeft het verlangen om een beweging van God onder jongeren te zien in Nederland. Een nieuwe generatie die vanuit liefde en bewogenheid Jezus zichtbaar wil maken in de maatschappij. Gebed en aanbidding zijn hierbij onmisbaar en daarom organiseert Soul Survivor maandelijkse Worship & Prayer avonden door heel Nederland. Op deze avonden willen we samen met de lokale gemeente jongeren inspireren en bemoedigen. Deel jij dit verlangen? Kom dan naar één van de avonden of nodig ons uit in jouw stad! \n
URL:https://gospelagenda.org/evenementen/soul-prayer-and-worship-night/
LOCATION:Rotterdam\, Rotterdam\, Zuid-Holland\, Netherlands
CATEGORIES:Ministry,Praise & Worship,Speciale Diensten
ATTACH;FMTTYPE=image/jpeg:https://gospelagenda.org/wp-content/uploads/2019/04/Soul-Prayer-and-Worship-Night.jpg
ORGANIZER;CN="Soul%20Survivor":MAILTO:info@soulsurvivor.nl
END:VEVENT
END:VCALENDAR