BEGIN:VCALENDAR
VERSION:2.0
PRODID:-//Gospel Agenda - ECPv4.9.13//NONSGML v1.0//EN
CALSCALE:GREGORIAN
METHOD:PUBLISH
X-ORIGINAL-URL:https://gospelagenda.org
X-WR-CALDESC:Events for Gospel Agenda
BEGIN:VTIMEZONE
TZID:Europe/Paris
BEGIN:DAYLIGHT
TZOFFSETFROM:+0100
TZOFFSETTO:+0200
TZNAME:CEST
DTSTART:20160327T010000
END:DAYLIGHT
BEGIN:STANDARD
TZOFFSETFROM:+0200
TZOFFSETTO:+0100
TZNAME:CET
DTSTART:20161030T010000
END:STANDARD
END:VTIMEZONE
BEGIN:VEVENT
DTSTART;TZID=Europe/Paris:20160625T193000
DTEND;TZID=Europe/Paris:20160625T213000
DTSTAMP:20260426T004539
CREATED:20160510T234245Z
LAST-MODIFIED:20160510T234619Z
UID:345-1466883000-1466890200@gospelagenda.org
SUMMARY:Soul Night - Juni
DESCRIPTION:\nSoul Night\n\n\n\nElke 4e zaterdag van de maand is er Soul Night. Met onze eigen Soul Survivor bands en jonge talentvolle sprekers komen de bekende ingrediënten voorbij: worship\, teaching en ministry. \nDe Soul Nights zijn vergelijkbaar met een Celebration (dienst) zoals op ons Soul Survivor festival. We willen samen Jezus ontmoeten tijdens deze avonden. Natuurlijk is er ook tijd en ruimte voor gezelligheid\, een lekker drankje en er is ook altijd wat te snacken te vinden voorafgaand en na afloop van de avond. Kom en neem je vrienden mee! \n\n\n\nUPCOMING\n\n\n\nLaat op facebook weten dat je er bij bent en nodig je vrienden uit! \n\n28 mei 2016\n25 juni 2016\n\n\n\n
URL:https://gospelagenda.org/evenementen/soul-night-juni/
LOCATION:Christengemeente Sefanja\, Stationslaan 121\, Harderwijk\, Gelderland\, 3844 GC\, Nederland
ATTACH;FMTTYPE=image/jpeg:https://gospelagenda.org/wp-content/uploads/2016/05/Soul-Night-Juni.jpg
ORGANIZER;CN="Soul%20Survivor":MAILTO:info@soulsurvivor.nl
END:VEVENT
END:VCALENDAR