BEGIN:VCALENDAR
VERSION:2.0
PRODID:-//Gospel Agenda - ECPv4.9.13//NONSGML v1.0//EN
CALSCALE:GREGORIAN
METHOD:PUBLISH
X-ORIGINAL-URL:https://gospelagenda.org
X-WR-CALDESC:Events for Gospel Agenda
BEGIN:VTIMEZONE
TZID:Europe/Paris
BEGIN:DAYLIGHT
TZOFFSETFROM:+0100
TZOFFSETTO:+0200
TZNAME:CEST
DTSTART:20190331T010000
END:DAYLIGHT
BEGIN:STANDARD
TZOFFSETFROM:+0200
TZOFFSETTO:+0100
TZNAME:CET
DTSTART:20191027T010000
END:STANDARD
END:VTIMEZONE
BEGIN:VEVENT
DTSTART;TZID=Europe/Paris:20190422T110000
DTEND;TZID=Europe/Paris:20190422T160000
DTSTAMP:20260425T224148
CREATED:20190108T204147Z
LAST-MODIFIED:20190108T204147Z
UID:1087-1555930800-1555948800@gospelagenda.org
SUMMARY:Simply Jesus 2019
DESCRIPTION:\nSimply Jesus is voor iedereen!\nTweede paasdag\, 11.00 – 16.00 uur @De IJsselhallen \n\n\nEen uitdaging is het\, om als gelovige bij de eenvoud te blijven van wat je gelooft. Maar juist die eenvoud draagt bij aan een laagdrempelige sfeer waarin iedereen zich thuis en veilig voelt. Niet alleen zij waarvoor geloven een vanzelfsprekendheid is\, maar ook zij die nog zoekend zijn en met tal van vragen rondlopen. Simply Jesus is zo’n plek waar de deur openstaat. Voor iedereen. Want geloven IS voor iedereen. \nSamen met David de Vos en Gert van der Vijver\, bekend als ‘De Zandtovenaar’\, belooft het uniek\, dynamisch en vooral beeldend te worden. We zien ernaar uit vele gezinnen te verwelkomen\, want ook voor kids is er een onvergetelijk kinderprogramma! \nHeb jij wel eens het gevoel dat je niet geestelijk genoeg bent? Of dat je altijd tekortschiet in je tijd met God? In Gods koninkrijk is ruimte om te groeien\, fouten te maken en beter te worden\, maar ook ruimte om dingen te accepteren zoals ze zijn. Het leven is een reis die niet alleen uit hoogtepunten bestaat. Ga jij mee op die reis\, samen met Jezus? Hij leeft! In jou en in mij. Het is tijd voor Simply Jesus! \n\n
URL:https://gospelagenda.org/evenementen/simply-jesus-2019/
LOCATION:IJsselhallen\, Rieteweg 4\, Zwolle\, Overijssel\, 8011 AB\, Nederland
CATEGORIES:Conferenties
ATTACH;FMTTYPE=image/jpeg:https://gospelagenda.org/wp-content/uploads/2019/01/2019-Header-SJ_-6-1860x629.jpg
ORGANIZER;CN="Go%20and%20Tell":MAILTO:info@goandtell.nl
END:VEVENT
END:VCALENDAR