BEGIN:VCALENDAR
VERSION:2.0
PRODID:-//Gospel Agenda - ECPv4.9.13//NONSGML v1.0//EN
CALSCALE:GREGORIAN
METHOD:PUBLISH
X-ORIGINAL-URL:https://gospelagenda.org
X-WR-CALDESC:Events for Gospel Agenda
BEGIN:VTIMEZONE
TZID:Europe/Paris
BEGIN:DAYLIGHT
TZOFFSETFROM:+0100
TZOFFSETTO:+0200
TZNAME:CEST
DTSTART:20190331T010000
END:DAYLIGHT
BEGIN:STANDARD
TZOFFSETFROM:+0200
TZOFFSETTO:+0100
TZNAME:CET
DTSTART:20191027T010000
END:STANDARD
END:VTIMEZONE
BEGIN:VEVENT
DTSTART;TZID=Europe/Paris:20190316T100000
DTEND;TZID=Europe/Paris:20190316T160000
DTSTAMP:20260425T203952
CREATED:20190221T205353Z
LAST-MODIFIED:20190221T205353Z
UID:1976-1552730400-1552752000@gospelagenda.org
SUMMARY:SHE Vrouwendag - Koningsdochters
DESCRIPTION:SHE Vrouwendag – Koningsdochters\n\n\n\nVan harte welkom op deze SHE Vrouwendag met als thema “Koningsdochters.”\nDeze dag is van 10.00u – 16.00u. In de ochtend is er aanbidding en zal Marja van Keulen spreken. ’s Middags zijn er verschillende workshops zoals dans\, schilderen\, kleur-en kledingadvies\, zang ea. Tussendoor is er tijd voor ontmoeting en gezelligheid. \nProgramma\n10.00u – 12.00u Aanbidding en onderwijs. Marja van Keulen zal spreken over het thema “Jij bent een Koningsdochter.”\n12.00u – 13.30u Lunchpauze. Graag je eigen lunch meenemen! Er is een beperkt aantal broodjes en versnaperingen te koop.\n13.30u – 15.00u Workshops. Je kunt je inschrijven voor 1 workshop. Let wel: vol = vol! Per workshopticket staat een korte beschrijving van wat de workshop inhoudt.\n15.00u – 15.30u Koffie en theepauze.\n15.30u – 16.00u Gezamenlijke afsluiting van de dag. \nLet op!\nJe boekt dus 2 tickets! Eén voor de ochtend\, en één voor de workshops.\nZijn de workshops vol dan ben je uiteraard van harte welkom voor alleen het ochtendprogramma. \n\n\n\n
URL:https://gospelagenda.org/evenementen/she-vrouwendag-koningsdochters/
LOCATION:Rafaël Amersfoort\, Kosmonaut 2\, Amersfoort\, Utrecht\, 3824 MK\, Nederland
CATEGORIES:Conferenties,Man / Vrouw
ATTACH;FMTTYPE=image/jpeg:https://gospelagenda.org/wp-content/uploads/2019/02/SHE-Rafael-Koningsdochters.jpg
ORGANIZER;CN="Rafa%C3%ABl%20Amersfoort":MAILTO:info@rafaelamersfoort.nl
END:VEVENT
END:VCALENDAR