BEGIN:VCALENDAR
VERSION:2.0
PRODID:-//Gospel Agenda - ECPv4.9.13//NONSGML v1.0//EN
CALSCALE:GREGORIAN
METHOD:PUBLISH
X-ORIGINAL-URL:https://gospelagenda.org
X-WR-CALDESC:Events for Gospel Agenda
BEGIN:VTIMEZONE
TZID:Europe/Paris
BEGIN:DAYLIGHT
TZOFFSETFROM:+0100
TZOFFSETTO:+0200
TZNAME:CEST
DTSTART:20190331T010000
END:DAYLIGHT
BEGIN:STANDARD
TZOFFSETFROM:+0200
TZOFFSETTO:+0100
TZNAME:CET
DTSTART:20191027T010000
END:STANDARD
END:VTIMEZONE
BEGIN:VEVENT
DTSTART;TZID=Europe/Paris:20190323T150000
DTEND;TZID=Europe/Paris:20190323T170000
DTSTAMP:20260425T235639
CREATED:20190223T131415Z
LAST-MODIFIED:20190309T083539Z
UID:2005-1553353200-1553360400@gospelagenda.org
SUMMARY:Sela - Dorpskerkentour Alblasserdam
DESCRIPTION:Sela – Dorpskerkentour Alblasserdam\nSela speelt in de maanden maart en april in dorpskerken overal in het land. Deze concerten staat in het teken van zingen\, heerlijk luisteren én kennismaken met nieuwe liederen die in de komenden maanden door Sela worden geschreven. Het is elk concert weer bijzonder om\, ongeacht uit welke kerk je komt\, in eenheid God alle eer toe te kunnen zingen. \nNaast overbekende liederen leren we dus nieuwe liederen aan. De missie van Sela is het ‘schrijven van liederen voor de kerk’. Voor een lied wordt opgenomen op cd is het belangrijk om te kijken of het lied ook echt geschikt is voor samenzang. Met het bezoeken van de Dorpskerkentour draag je dus ook nog een steentje bij aan de nieuwe Sela-cd die D.V. begin september verschijnt. \n
URL:https://gospelagenda.org/evenementen/sela-dorpskerkentour-alblasserdam/
LOCATION:Havenkerk\, Alblasserdam\, Ieplaan 9\, Alblasserdam\, Zuid-Holland\, 2951 CB\, Nederland
CATEGORIES:Praise & Worship
ATTACH;FMTTYPE=image/jpeg:https://gospelagenda.org/wp-content/uploads/2019/02/Sela-Dorpskerkentour-mainimage.jpg
ORGANIZER;CN="Sela":MAILTO:info@sela.nl
END:VEVENT
END:VCALENDAR