BEGIN:VCALENDAR
VERSION:2.0
PRODID:-//Gospel Agenda - ECPv4.9.13//NONSGML v1.0//EN
CALSCALE:GREGORIAN
METHOD:PUBLISH
X-ORIGINAL-URL:https://gospelagenda.org
X-WR-CALDESC:Events for Gospel Agenda
BEGIN:VTIMEZONE
TZID:Europe/Paris
BEGIN:DAYLIGHT
TZOFFSETFROM:+0100
TZOFFSETTO:+0200
TZNAME:CEST
DTSTART:20190331T010000
END:DAYLIGHT
BEGIN:STANDARD
TZOFFSETFROM:+0200
TZOFFSETTO:+0100
TZNAME:CET
DTSTART:20191027T010000
END:STANDARD
END:VTIMEZONE
BEGIN:VEVENT
DTSTART;TZID=Europe/Paris:20190323T100000
DTEND;TZID=Europe/Paris:20190323T160000
DTSTAMP:20260425T222815
CREATED:20190309T075158Z
LAST-MODIFIED:20190309T075158Z
UID:2271-1553335200-1553356800@gospelagenda.org
SUMMARY:Samengestelde gezinnen - Studiedag
DESCRIPTION:Samengestelde gezinnen – Studiedag\nOp zaterdag 23 maart 2019 vindt de studiedag over samengestelde gezinnen plaats in Zwijndrecht. Het thema van de studiedag is ‘Heb je het goed SAMEN gesteld?’. Tijdens deze studiedag denken we met elkaar na over de complexiteit van samengestelde families. De studiedag is georganiseerd vanuit de opleiding Pastorale Hulpverlening. Zowel studenten en cursisten als geïnteresseerden zijn van harte welkom. \nMeld je aan\nMeld je aan voor deze studiedag via de webpagina van het evenement. \n
URL:https://gospelagenda.org/evenementen/samengestelde-gezinnen-studiedag/
LOCATION:Evangelisch College\, Anjerstraat 79\, Zwijndrecht\, Zuid-Holland\, 3333 GC\, Netherlands
CATEGORIES:Training
ATTACH;FMTTYPE=image/jpeg:https://gospelagenda.org/wp-content/uploads/2019/03/Samengestelde-gezinnen-Evangelisch-College.jpg
ORGANIZER;CN="Evangelisch%20College":MAILTO:info@evangelisch-college.nl
END:VEVENT
END:VCALENDAR