BEGIN:VCALENDAR
VERSION:2.0
PRODID:-//Gospel Agenda - ECPv4.9.13//NONSGML v1.0//EN
CALSCALE:GREGORIAN
METHOD:PUBLISH
X-ORIGINAL-URL:https://gospelagenda.org
X-WR-CALDESC:Events for Gospel Agenda
BEGIN:VTIMEZONE
TZID:Europe/Paris
BEGIN:DAYLIGHT
TZOFFSETFROM:+0100
TZOFFSETTO:+0200
TZNAME:CEST
DTSTART:20190331T010000
END:DAYLIGHT
BEGIN:STANDARD
TZOFFSETFROM:+0200
TZOFFSETTO:+0100
TZNAME:CET
DTSTART:20191027T010000
END:STANDARD
END:VTIMEZONE
BEGIN:VEVENT
DTSTART;TZID=Europe/Paris:20190525T160000
DTEND;TZID=Europe/Paris:20190525T210000
DTSTAMP:20260425T220008
CREATED:20190525T051837Z
LAST-MODIFIED:20190525T051837Z
UID:3485-1558800000-1558818000@gospelagenda.org
SUMMARY:Prophetic Crusade Zeeland
DESCRIPTION:Prophetic Crusade Zeeland\n– with Prophet Elisha Marcel \nPeople of Zeeland\, it is you time to experience the prophetic word of God\, Worship\, Prayer\, Prophecy\, Deliverance\, Healing & Breakthrough. \n
URL:https://gospelagenda.org/evenementen/prophetic-crusade-zeeland/
LOCATION:Scalda\, Ravensteijnweg 1\, Middelburg\, Zeeland\, 4337 PG\, Nederland
CATEGORIES:Ministry,Speciale Diensten
ATTACH;FMTTYPE=image/jpeg:https://gospelagenda.org/wp-content/uploads/2019/05/Prophetic-Crusade-Zeeland.jpg
ORGANIZER;CN="Revivalland":MAILTO:info@revivalland.tv
END:VEVENT
END:VCALENDAR