BEGIN:VCALENDAR
VERSION:2.0
PRODID:-//Gospel Agenda - ECPv4.9.13//NONSGML v1.0//EN
CALSCALE:GREGORIAN
METHOD:PUBLISH
X-ORIGINAL-URL:https://gospelagenda.org
X-WR-CALDESC:Events for Gospel Agenda
BEGIN:VTIMEZONE
TZID:Europe/Paris
BEGIN:DAYLIGHT
TZOFFSETFROM:+0100
TZOFFSETTO:+0200
TZNAME:CEST
DTSTART:20190331T010000
END:DAYLIGHT
BEGIN:STANDARD
TZOFFSETFROM:+0200
TZOFFSETTO:+0100
TZNAME:CET
DTSTART:20191027T010000
END:STANDARD
END:VTIMEZONE
BEGIN:VEVENT
DTSTART;TZID=Europe/Paris:20190707T100000
DTEND;TZID=Europe/Paris:20190707T120000
DTSTAMP:20260425T203209
CREATED:20190612T055914Z
LAST-MODIFIED:20190612T055914Z
UID:3765-1562493600-1562500800@gospelagenda.org
SUMMARY:Profetisch Woord
DESCRIPTION:Profetisch Woord\nmet Stephen & Rita Fedele \nTijdens de zondagochtend samenkomst en ’s avonds tijdens de going deeper avond zullen Stephen & Rita Fedele spreken. Zij hebben een wereldwijde profetische bediening in meer dan 150 gemeenten. In hun bediening staat Jezus Christus centraal en is er een krachtige werking van de Heilige Geest. Profetie is van groot belang voor de kerk. Profeten spreken namelijk het potentieel aan in mensen zodat zij tot de bestemming kunnen komen die God voor hen heeft. We zijn blij Steve en Rita weer welkom te kunnen heten. \n
URL:https://gospelagenda.org/evenementen/profetisch-woord/
LOCATION:Citylight Alkmaar\, Helderseweg 32\, Alkmaar\, Noord-Holland\, 1817 BA\, Nederland
CATEGORIES:Speciale Diensten
ATTACH;FMTTYPE=image/png:https://gospelagenda.org/wp-content/uploads/2019/06/Profetisch-Woord.png
ORGANIZER;CN="Citylight%20Alkmaar":MAILTO:info@citylightalkmaar.nl
END:VEVENT
END:VCALENDAR