BEGIN:VCALENDAR
VERSION:2.0
PRODID:-//Gospel Agenda - ECPv4.9.13//NONSGML v1.0//EN
CALSCALE:GREGORIAN
METHOD:PUBLISH
X-ORIGINAL-URL:https://gospelagenda.org
X-WR-CALDESC:Events for Gospel Agenda
BEGIN:VTIMEZONE
TZID:Europe/Paris
BEGIN:DAYLIGHT
TZOFFSETFROM:+0100
TZOFFSETTO:+0200
TZNAME:CEST
DTSTART:20190331T010000
END:DAYLIGHT
BEGIN:STANDARD
TZOFFSETFROM:+0200
TZOFFSETTO:+0100
TZNAME:CET
DTSTART:20191027T010000
END:STANDARD
END:VTIMEZONE
BEGIN:VEVENT
DTSTART;TZID=Europe/Paris:20190511T193000
DTEND;TZID=Europe/Paris:20190511T220000
DTSTAMP:20260425T220139
CREATED:20190426T180957Z
LAST-MODIFIED:20190429T144219Z
UID:3055-1557603000-1557612000@gospelagenda.org
SUMMARY:Praise Night met "Berean Drive"
DESCRIPTION:Praise Night\nmet 12-koppige gospelformatie “Berean Drive” \nEen lofprijsavond met de 12-koppige gospelformatie/evangelisatieband “BEREAN DRIVE”. \nBerean Drive verwijst naar de gelovigen uit Berea\, die dagelijks de Schriften onderzochten om te controleren dat ze niet werden misleid. Een nieuwe formatie met blazerssectie\, die het onderwijs tijdens de eindtijdconferentie afwisselt met swingende\, bekende en minder bekende gospelmuziek. \nCome with a desire to worship Jesus and bring your dancing shoes! \n\n
URL:https://gospelagenda.org/evenementen/praise-night-met-berean-drive/
LOCATION:Elevate – Muziekschool\, Dansschool\, Theaterschool (Veenendaal)\, Zandstraat 36\, Veenendaal\, Utrecht\, 3901 CM\, Netherlands
CATEGORIES:Praise & Worship
ATTACH;FMTTYPE=image/jpeg:https://gospelagenda.org/wp-content/uploads/2019/04/Berean-Drive.jpg
ORGANIZER;CN="Stichting%20Want":MAILTO:info@stichtingwant.nl
END:VEVENT
END:VCALENDAR