BEGIN:VCALENDAR
VERSION:2.0
PRODID:-//Gospel Agenda - ECPv4.9.13//NONSGML v1.0//EN
CALSCALE:GREGORIAN
METHOD:PUBLISH
X-ORIGINAL-URL:https://gospelagenda.org
X-WR-CALDESC:Events for Gospel Agenda
BEGIN:VTIMEZONE
TZID:Europe/Helsinki
BEGIN:DAYLIGHT
TZOFFSETFROM:+0200
TZOFFSETTO:+0300
TZNAME:EEST
DTSTART:20190331T010000
END:DAYLIGHT
BEGIN:STANDARD
TZOFFSETFROM:+0300
TZOFFSETTO:+0200
TZNAME:EET
DTSTART:20191027T010000
END:STANDARD
END:VTIMEZONE
BEGIN:VEVENT
DTSTART;TZID=Europe/Helsinki:20190921T190000
DTEND;TZID=Europe/Helsinki:20190921T230000
DTSTAMP:20260425T192711
CREATED:20190917T073306Z
LAST-MODIFIED:20190917T073306Z
UID:4497-1569092400-1569106800@gospelagenda.org
SUMMARY:PowerPacked Youth - Season Kick-Off
DESCRIPTION:PowerPacked Youth – Season Kick-Off\nHet belooft een tof nieuw powerpacked youth seizoen te worden. Mis het niet en noteer 21 september dus in je agenda\, dan is de eerste van een nieuwe reeks PPY events. Ook is het handig om powerpackedyouth op Instagram en Facebook te volgen om van updates en nieuwtjes op de hoogte te blijven! \nWij vinden het belangrijk om naast het connecten met God ook te connecten met elkaar. Daarom is er na de meeting voor jou in de foyer o.a. lounge gelegenheid en diverse game points die variëren van een playstation tot aan een pooltafel tot aan een panna cage en klassieke tafelspellen. Eten is gezelligheid dus natuurlijk ook food en muziek zijn van de partij! \nZorg dat je voorbereid bent op jouw seizoen. Kom je kennis verrijken\, chillen en andere jeugd ontmoeten! Inloop is om 19:00u\, we starten om 20:00u met praise en worship\, Entree is gratis en we love to meet you! \nElke maand bij Levende Steen Ministries een krachtige Powerpacked Youth (PPY)\nJeugd die functioneert in de Kracht van God\, onder leiding van de Heilige Geest. Na een te gekke praise & worship samen met de Powerpacked Youth Band\, brengt apostel Edgar Holder een krachtige en inspirerende boodschap. Praktische voorbeelden en handvatten vanuit het Woord van God helpen je verder en geven je meer inzicht in de geweldige volheid van God. \nLaat je gebruiken als instrument in de handen van God om zo op school\, op je werk\, of waar je ook bent dat verschil te maken. Gods kracht demonstreren in real life! \nDeze diensten zijn voor de jeugd van Spijkenisse\, maar ook voor iedereen die meer wil weten en inzicht wil krijgen in de volheid van God. \n
URL:https://gospelagenda.org/evenementen/powerpacked-youth-season-kick-off/
LOCATION:De Dome\, C. Villeriuslaan 12\, Spijkenisse\, Zuid-Holland\, 3201 KV\, Nederland
CATEGORIES:Jeugd,Ministry,Praise & Worship,Speciale Diensten
ATTACH;FMTTYPE=image/jpeg:https://gospelagenda.org/wp-content/uploads/2019/09/PowerPacked-Youth-Season-Kick-Off.jpg
ORGANIZER;CN="Levende%20Steen%20Ministries":MAILTO:info@levendesteenministries.nl
END:VEVENT
END:VCALENDAR