BEGIN:VCALENDAR
VERSION:2.0
PRODID:-//Gospel Agenda - ECPv4.9.13//NONSGML v1.0//EN
CALSCALE:GREGORIAN
METHOD:PUBLISH
X-ORIGINAL-URL:https://gospelagenda.org
X-WR-CALDESC:Events for Gospel Agenda
BEGIN:VTIMEZONE
TZID:Europe/Paris
BEGIN:DAYLIGHT
TZOFFSETFROM:+0100
TZOFFSETTO:+0200
TZNAME:CEST
DTSTART:20190331T010000
END:DAYLIGHT
BEGIN:STANDARD
TZOFFSETFROM:+0200
TZOFFSETTO:+0100
TZNAME:CET
DTSTART:20191027T010000
END:STANDARD
END:VTIMEZONE
BEGIN:VEVENT
DTSTART;TZID=Europe/Paris:20190412T193000
DTEND;TZID=Europe/Paris:20190412T220000
DTSTAMP:20260425T224347
CREATED:20190309T102829Z
LAST-MODIFIED:20190309T103054Z
UID:2303-1555097400-1555106400@gospelagenda.org
SUMMARY:Paastour met Gerald & Nelinda Troost - Daarlerveen
DESCRIPTION:Paastour met Gerald & Nelinda Troost – Daarlerveen\nHet paasconcert is een intiem en sfeervol concert voor de hele familie. Jong en oud zullen aangesproken worden door prachtige\, persoonlijke liederen die Gerald\, Nelinda en aanvullende musici ten gehore zullen brengen. Een sfeervolle avond\, waarbij Gerald en Nelinda je meenemen op weg naar Pasen. Kortom: Een intiem en sfeervol concert met een duidelijke paasboodschap. Het concert duurt ongeveer 120 minuten incl. pauze. \nBeleef een indringend concert met Gerald & Nelinda Troost\, samen met professionele gastmuzikanten. Het programma is geschikt voor het hele gezin en zal bestaan uit ontroerende solo’s over het lijden\, sterven en opstaan van Jezus. Ook is er gelegenheid om samen te zingen! De opstanding van Jezus is een keerpunt in de geschiedenis en nog steeds actueel. Jezus gaf 100% voor jou. Er is hoop voor jouw leven. Er is toekomst voor de wereld! \nNaast bekende liedjes als ‘100%’\, ‘Stille zaterdag’ en ‘O hoofd vol bloed en wonden’ zullen Gerald en Nelinda ook een voorproefje laten horen van de nieuwe cd die onlangs is opgenomen in Amerika. \nWees welkom met je hele gezin en reserveer tijdig je kaarten. \n
URL:https://gospelagenda.org/evenementen/paastour-met-gerald-nelinda-troost-daarlerveen/
LOCATION:GKV de Kruiskerk (Daarlerveen)\, Kerststraat 1\, Daarlerveen\, Overijssel\, 7687 AA\, Netherlands
CATEGORIES:Praise & Worship
ATTACH;FMTTYPE=image/jpeg:https://gospelagenda.org/wp-content/uploads/2019/02/Gerald-Nelinda-Troost.jpg
ORGANIZER;CN="Zingen%20in%20de%20Kerk":MAILTO:info@zingenindekerk.nl
END:VEVENT
END:VCALENDAR