BEGIN:VCALENDAR
VERSION:2.0
PRODID:-//Gospel Agenda - ECPv4.9.13//NONSGML v1.0//EN
CALSCALE:GREGORIAN
METHOD:PUBLISH
X-ORIGINAL-URL:https://gospelagenda.org
X-WR-CALDESC:Events for Gospel Agenda
BEGIN:VTIMEZONE
TZID:Europe/Paris
BEGIN:DAYLIGHT
TZOFFSETFROM:+0100
TZOFFSETTO:+0200
TZNAME:CEST
DTSTART:20190331T010000
END:DAYLIGHT
BEGIN:STANDARD
TZOFFSETFROM:+0200
TZOFFSETTO:+0100
TZNAME:CET
DTSTART:20191027T010000
END:STANDARD
END:VTIMEZONE
BEGIN:VEVENT
DTSTART;TZID=Europe/Paris:20190421T173000
DTEND;TZID=Europe/Paris:20190421T190000
DTSTAMP:20260426T001958
CREATED:20190407T145939Z
LAST-MODIFIED:20190407T145939Z
UID:2684-1555867800-1555873200@gospelagenda.org
SUMMARY:Paasjubel Classic
DESCRIPTION:Paasjubel Classic\nNet zoals vorig jaar organiseert Stichting Ontmoeting weer 2 (!) diensten in Theater De Vijfzinnen (voorheen De Nieuwe Doelen). Je bent welkom op 1e Paasdag\, dat is op 21 april 2019\, om het feest van Pasen mee te vieren. \nJe kunt kiezen voor de dienst van 17.30 uur; de ‘PaasJubel Classic’ waarbij het accent ligt op de meer bekende liederen. Of je kunt kiezen voor de dienst om 19.30 uur; de tweede samenkomst ‘PaasJubel Young & Free’ waar ook nieuwe en Engelstalige liederen aan bod komen. De diensten zijn dus qua inhoud niet gelijk\, ze krijgen een accentverschil. \nLet op: toegang is gratis en reserveren is niet nodig! \n
URL:https://gospelagenda.org/evenementen/paasjubel-classic/
LOCATION:Theater De Vijfzinnen (Gorinchem)\, Haarstraat 64\, Gorinchem\, Zuid-Holland\, 4201 JD\, Netherlands
CATEGORIES:Anders,Speciale Diensten
ATTACH;FMTTYPE=image/jpeg:https://gospelagenda.org/wp-content/uploads/2019/04/Paasjubel-Classic.jpg
ORGANIZER;CN="Paasjubel":MAILTO:mail@paasjubel.net
END:VEVENT
END:VCALENDAR