BEGIN:VCALENDAR
VERSION:2.0
PRODID:-//Gospel Agenda - ECPv4.9.13//NONSGML v1.0//EN
CALSCALE:GREGORIAN
METHOD:PUBLISH
X-ORIGINAL-URL:https://gospelagenda.org
X-WR-CALDESC:Events for Gospel Agenda
BEGIN:VTIMEZONE
TZID:Europe/Paris
BEGIN:DAYLIGHT
TZOFFSETFROM:+0100
TZOFFSETTO:+0200
TZNAME:CEST
DTSTART:20190331T010000
END:DAYLIGHT
BEGIN:STANDARD
TZOFFSETFROM:+0200
TZOFFSETTO:+0100
TZNAME:CET
DTSTART:20191027T010000
END:STANDARD
END:VTIMEZONE
BEGIN:VEVENT
DTSTART;TZID=Europe/Paris:20190323T091500
DTEND;TZID=Europe/Paris:20190323T170000
DTSTAMP:20260425T222919
CREATED:20190309T074216Z
LAST-MODIFIED:20190309T074216Z
UID:2269-1553332500-1553360400@gospelagenda.org
SUMMARY:Opleidingen Theologie Amersfoort - Open Dag
DESCRIPTION:Opleidingen Theologie Amersfoort – Open Dag\nKom naar de open dag van de deeltijdopleidingen Theologie\, Gemeentewerk en Bijbel & Exegese. Onze theologische opleidingen zijn op hbo-niveau\, Bijbelgericht\, academisch verantwoord en praktijk-georiënteerd. \nDe open dag start met een informatiebijeenkomst waarin wij jou graag informeren over de opleidingen Theologie\, Gemeentewerk en Bijbel & Exegese. Aansluitend kun je de lessen bijwonen. \n
URL:https://gospelagenda.org/evenementen/opleidingen-theologie-amersfoort-open-dag/
LOCATION:Martuskerk (Amersfoort)\, Copernicusstraat 18\, Amersfoort\, Utrecht\, 3817 VJ\, Netherlands
CATEGORIES:Anders,Training
ATTACH;FMTTYPE=image/jpeg:https://gospelagenda.org/wp-content/uploads/2019/03/Open-Dag-Evangelische-Opleidingen.jpg
ORGANIZER;CN="Evangelisch%20College":MAILTO:info@evangelisch-college.nl
END:VEVENT
END:VCALENDAR