BEGIN:VCALENDAR
VERSION:2.0
PRODID:-//Gospel Agenda - ECPv4.9.13//NONSGML v1.0//EN
CALSCALE:GREGORIAN
METHOD:PUBLISH
X-ORIGINAL-URL:https://gospelagenda.org
X-WR-CALDESC:Events for Gospel Agenda
BEGIN:VTIMEZONE
TZID:Europe/Paris
BEGIN:DAYLIGHT
TZOFFSETFROM:+0100
TZOFFSETTO:+0200
TZNAME:CEST
DTSTART:20190331T010000
END:DAYLIGHT
BEGIN:STANDARD
TZOFFSETFROM:+0200
TZOFFSETTO:+0100
TZNAME:CET
DTSTART:20191027T010000
END:STANDARD
END:VTIMEZONE
BEGIN:VEVENT
DTSTART;TZID=Europe/Paris:20190615T100000
DTEND;TZID=Europe/Paris:20190615T160000
DTSTAMP:20260425T235641
CREATED:20190604T234508Z
LAST-MODIFIED:20190604T234508Z
UID:3656-1560592800-1560614400@gospelagenda.org
SUMMARY:Open lesdag: Raymond Hausoul
DESCRIPTION:Open lesdag: Raymond Hausoul\nOp zaterdag 15 juni zal Raymond Hausoul onderwijs geven op de parttime school van Bijbelschool C7. \nProgramma\n09u30: Inloop\n10u00: Lesblok 1\n12u00: Lunchpauze\n13u00: Lesblok 2\n16:00: Einde \nDe toegang tot de lesdag is gratis. Je dient wel zelf een lunchpakket mee te brengen. Je kan je opgeven via office@bijbelschool.be. \n
URL:https://gospelagenda.org/evenementen/open-lesdag-raymond-hausoul/
LOCATION:Bijbelschool C7\, Geldenaaksebaan\, Leuven\, Vlaams-Brabant\, 3001\, België
CATEGORIES:Training
ATTACH;FMTTYPE=image/jpeg:https://gospelagenda.org/wp-content/uploads/2019/06/Open-Lesdag-met-Raymond-Hausoul.jpg
ORGANIZER;CN="Bijbelschool%20C7":MAILTO:office@bijbelschool.be
END:VEVENT
END:VCALENDAR