BEGIN:VCALENDAR
VERSION:2.0
PRODID:-//Gospel Agenda - ECPv4.9.13//NONSGML v1.0//EN
CALSCALE:GREGORIAN
METHOD:PUBLISH
X-ORIGINAL-URL:https://gospelagenda.org
X-WR-CALDESC:Events for Gospel Agenda
BEGIN:VTIMEZONE
TZID:Europe/Paris
BEGIN:DAYLIGHT
TZOFFSETFROM:+0100
TZOFFSETTO:+0200
TZNAME:CEST
DTSTART:20190331T010000
END:DAYLIGHT
BEGIN:STANDARD
TZOFFSETFROM:+0200
TZOFFSETTO:+0100
TZNAME:CET
DTSTART:20191027T010000
END:STANDARD
END:VTIMEZONE
BEGIN:VEVENT
DTSTART;TZID=Europe/Paris:20190526T103000
DTEND;TZID=Europe/Paris:20190526T130000
DTSTAMP:20260425T225001
CREATED:20190517T095009Z
LAST-MODIFIED:20190517T095049Z
UID:3386-1558866600-1558875600@gospelagenda.org
SUMMARY:Onderwijsdienst Wijk bij Duurstede
DESCRIPTION:Onderwijsdienst Wijk bij Duurstede\n– Onderwijsdienst over genezing met evangelist Jan Zijlstra \nGa richting Jezus > Ga richting het Wonder\nKom en nodig ook anderen uit voor deze bijzondere samenkomsten. Jezus Christus was gisteren\, is vandaag en zal altijd Dezelfde zijn. De boodschap van redding\, bevrijding en genezing is dezelfde is ook vandaag. Jan Zijlstra zal voorgaan in deze krachtige onderwijsdienst met als onderwerp genezing. \nAan het eind van de dienst zal er tijd worden gemaakt om te bidden voor mensen die ziek zijn of gebed nodig hebben; hetzij naar geest\, ziel of lichaam. Kom met verwachting naar Jezus en verwacht een Wonder van Hem. \nToegang\nDe toegang is gratis. \nAdresgegevens\nOnderstaande adresgevens van gemeente de Rivier kloppen\, maar zijn vaak voor een auto-navigatie lastig te vinden. Wij adviseren daarom als bestemming het volgende adres in te voeren om de locatie makkelijker te vinden: Molenvliet 1\, Wijk bij Duurstede. \nGenezingsdienst\nVrijdag 24 mei wordt een krachtige genezingsdienst georganiseerd voorafgaand aan deze onderwijsdienst. Tijdens deze dienst wordt er tijd gemaakt voor allen die ziek zijn of gebed nodig hebben; hetzij naar geest\, ziel of lichaam. \n
URL:https://gospelagenda.org/evenementen/onderwijsdienst-wijk-bij-duurstede/
LOCATION:De Rivier (Wijk bij Duurstede)\, Kanaal Noord 1\, Wijk bij Duurstede\, Utrecht\, 3961 MZ\, Nederland
CATEGORIES:Ministry,Speciale Diensten,Training
ATTACH;FMTTYPE=image/jpeg:https://gospelagenda.org/wp-content/uploads/2019/05/Onderwijsdienst-Wijk-Bij-Duurstede-Wings-of-Healing-De-Rivier-Gemeente-Jan-Zijlstra.jpg
ORGANIZER;CN="De%20Rivier%20%28Wijk%20bij%20Duurstede%29":MAILTO:info@deriviergemeente.nl
END:VEVENT
END:VCALENDAR