BEGIN:VCALENDAR
VERSION:2.0
PRODID:-//Gospel Agenda - ECPv4.9.13//NONSGML v1.0//EN
CALSCALE:GREGORIAN
METHOD:PUBLISH
X-ORIGINAL-URL:https://gospelagenda.org
X-WR-CALDESC:Events for Gospel Agenda
BEGIN:VTIMEZONE
TZID:Europe/Paris
BEGIN:DAYLIGHT
TZOFFSETFROM:+0100
TZOFFSETTO:+0200
TZNAME:CEST
DTSTART:20190331T010000
END:DAYLIGHT
BEGIN:STANDARD
TZOFFSETFROM:+0200
TZOFFSETTO:+0100
TZNAME:CET
DTSTART:20191027T010000
END:STANDARD
END:VTIMEZONE
BEGIN:VEVENT
DTSTART;TZID=Europe/Paris:20190308T190000
DTEND;TZID=Europe/Paris:20190310T200000
DTSTAMP:20260425T224127
CREATED:20190205T203728Z
LAST-MODIFIED:20190205T204336Z
UID:1663-1552071600-1552248000@gospelagenda.org
SUMMARY:Nations Cry Conference
DESCRIPTION:Nations Cry Conference\nNATIONS CRY CONFERENCE is een bijeenkomst van mensen van allerlei nationaliteiten\, die samenkomen om te God the lofprijzen en aanbidden en het gezicht van God te zoeken ten behoeve van onze landen van herkomst. In alle nederigheid nodigen wij u uit om deze grote samenkomst van heiligen bij te wonen. \nDe Nations Cry Conference wordt georganiseerd door Christ Humble Ministries. Het thema is “Jericho”. \nHet evenement neemt plaats op de volgende data: \n\n8 maart (19.00 uur – 22.00 uur)\n9 maart (16.00 uur – 19.00 uur)\n10 maart (17.00 uur – 20.00 uur)\n\n  \n
URL:https://gospelagenda.org/evenementen/nations-cry-conference/
LOCATION:Oost Sidelinge (Rotterdam)\, Oost-Sidelinge 15\, Rotterdam\, Zuid-Holland\, 3043 JH\, Nederland
CATEGORIES:Ministry,Praise & Worship
ATTACH;FMTTYPE=image/jpeg:https://gospelagenda.org/wp-content/uploads/2019/02/Nations-Cry-Chris-Humble-Ministries.jpg
ORGANIZER;CN="Chris%20Humble%20Ministries":MAILTO:0685335485
END:VEVENT
END:VCALENDAR