BEGIN:VCALENDAR
VERSION:2.0
PRODID:-//Gospel Agenda - ECPv4.9.13//NONSGML v1.0//EN
CALSCALE:GREGORIAN
METHOD:PUBLISH
X-ORIGINAL-URL:https://gospelagenda.org
X-WR-CALDESC:Events for Gospel Agenda
BEGIN:VTIMEZONE
TZID:Europe/Paris
BEGIN:DAYLIGHT
TZOFFSETFROM:+0100
TZOFFSETTO:+0200
TZNAME:CEST
DTSTART:20190331T010000
END:DAYLIGHT
BEGIN:STANDARD
TZOFFSETFROM:+0200
TZOFFSETTO:+0100
TZNAME:CET
DTSTART:20191027T010000
END:STANDARD
END:VTIMEZONE
BEGIN:VEVENT
DTSTART;TZID=Europe/Paris:20190427T120000
DTEND;TZID=Europe/Paris:20190427T180000
DTSTAMP:20260425T222358
CREATED:20190308T122654Z
LAST-MODIFIED:20190308T123347Z
UID:2217-1556366400-1556388000@gospelagenda.org
SUMMARY:National Day Of Prayer
DESCRIPTION:National Day Of Prayer\nJoel 2:28 “I will pour out my spirit upon all flesh”\nAre you interested in the prayer call? If yes\, we invite all intercessors to join in with us at the National Day Of Prayer. Come\, stand in the gap and spend your day in the presence of the Lord and your life will never be the same. \nIf you’re in The Netherlands (Europe) surrounding areas come be our special guest. In case you miss last year\, save the date. We Are ready in one accord for another power-packed of our National Day Of Prayer (the heart of the Netherlands – Europe). There will be so much rejoicing in heaven\, it’s gonna be Awesome! \nThis is the 6th year that we organize this conference. Every year has been awesome\, and it’s getting better\, We believe this year 2019 will be great as never before! National Day Of Prayer is a call for all believers\, leaders\, pastors\, intercessors to come in one accord and intercede for our nations and believe God work on our behalf. Come and experience the supernatural power of God in Christ. \nWe believe God still heals\, delivers\, restores broken lives\, and empowers His people by His Spirit. Come and receive prophetic impartation\, there will be powerful motivational speakers\, worship will be fter lead by Gert-Jan Vedder Band\, Extreme Worshippers From Italy & Minister Mercy Mac Nack. Food and drinks are available after the service\, come ready to pray for your nation and receive from God. Don’t miss this event. God has something fresh for you. Please check the flyer for more information. \nKindly share and invite friends and families to be blessed. Come spend your day in the presence of God! \n\nFree Entrance\nChildren Are Welcome\nEnglish Services with Dutch translation\n\n
URL:https://gospelagenda.org/evenementen/national-day-of-prayer/
LOCATION:Dominion Centre Amsterdam\, Ellermanstraat 30\, Amsterdam\, Noord-Holland\, 1114 AK
CATEGORIES:Anders,Conferenties,Speciale Diensten
ATTACH;FMTTYPE=image/jpeg:https://gospelagenda.org/wp-content/uploads/2019/03/National-Day-Of-Prayer.jpg
ORGANIZER;CN="God%27s%20Embassy%20Amsterdam%20%28Dominion%20Centre%29":MAILTO:info@embassyamsterdam.nl
END:VEVENT
END:VCALENDAR