BEGIN:VCALENDAR
VERSION:2.0
PRODID:-//Gospel Agenda - ECPv4.9.13//NONSGML v1.0//EN
CALSCALE:GREGORIAN
METHOD:PUBLISH
X-ORIGINAL-URL:https://gospelagenda.org
X-WR-CALDESC:Events for Gospel Agenda
BEGIN:VTIMEZONE
TZID:Europe/Paris
BEGIN:DAYLIGHT
TZOFFSETFROM:+0100
TZOFFSETTO:+0200
TZNAME:CEST
DTSTART:20190331T010000
END:DAYLIGHT
BEGIN:STANDARD
TZOFFSETFROM:+0200
TZOFFSETTO:+0100
TZNAME:CET
DTSTART:20191027T010000
END:STANDARD
END:VTIMEZONE
BEGIN:VEVENT
DTSTART;TZID=Europe/Paris:20190316T103000
DTEND;TZID=Europe/Paris:20190316T160000
DTSTAMP:20260425T205923
CREATED:20190124T221507Z
LAST-MODIFIED:20190124T221507Z
UID:1461-1552732200-1552752000@gospelagenda.org
SUMMARY:Naïma vrouwendag
DESCRIPTION:Naïma vrouwendag\n\nOp 16 maart 2019 zal onze “Naïma vrouwendag” plaatsvinden in Amersfoort. De voorbereidingen zijn al in volle gang en het zal een bijzondere dag worden met getuigenissen van vrouwen uit verschillende culturen. \n  \nEen tipje van de sluier:\nKarima El-Branki afkomstig uit Algerije\, woonachtig in Londen komt spreken. Zij zal persoonlijke ervaringen en opbouwende woorden uit de Bijbel delen. Net als vorig jaar zullen er diverse workshops zijn waarbij jullie praktische tools in handen krijgen om het evangelie te delen met je moslimvriendinnen. \n\n
URL:https://gospelagenda.org/evenementen/naima-vrouwendag/
LOCATION:Hart van Vathorst (Amersfoort)\, Angelinapolder 3\, Amersfoort\, Utrecht\, 3825 LX\, Nederland
CATEGORIES:Anders,Man / Vrouw
ATTACH;FMTTYPE=image/jpeg:https://gospelagenda.org/wp-content/uploads/2019/01/Flyer-Naima-vrouwendag-2019.jpeg
ORGANIZER;CN="Evangelie%20%26%20Moslim":MAILTO:info@evangelie-moslims.nl
END:VEVENT
END:VCALENDAR