BEGIN:VCALENDAR
VERSION:2.0
PRODID:-//Gospel Agenda - ECPv4.9.13//NONSGML v1.0//EN
CALSCALE:GREGORIAN
METHOD:PUBLISH
X-ORIGINAL-URL:https://gospelagenda.org
X-WR-CALDESC:Events for Gospel Agenda
BEGIN:VTIMEZONE
TZID:Europe/Paris
BEGIN:DAYLIGHT
TZOFFSETFROM:+0100
TZOFFSETTO:+0200
TZNAME:CEST
DTSTART:20190331T010000
END:DAYLIGHT
BEGIN:STANDARD
TZOFFSETFROM:+0200
TZOFFSETTO:+0100
TZNAME:CET
DTSTART:20191027T010000
END:STANDARD
END:VTIMEZONE
BEGIN:VEVENT
DTSTART;TZID=Europe/Paris:20190517T190000
DTEND;TZID=Europe/Paris:20190517T230000
DTSTAMP:20260425T192702
CREATED:20190417T055650Z
LAST-MODIFIED:20190417T055910Z
UID:2878-1558119600-1558134000@gospelagenda.org
SUMMARY:Mom's Night Out XL
DESCRIPTION:\n\n\nMom’s Night Out XL\nYes! 17 Mei is het zover: de uitverkochte Mom’s Night Out XL!\n\nEn op deze pagina vind je praktische info rondom het event. Niet heel inspirerend\, maar wel superhandig.\n\nHet event is uitverkocht. Toegang tot deze Mom’s Night Out XL uitsluitend door middel van de per mail toegestuurde bestelbevestigingen. Deze worden bij binnenkomst gecontroleerd. Zorg dat je tegelijk binnenkomt als je voor meerdere mensen besteld hebt. Geen bestelbevestiging (meer)? Check je spamfilter of mail tijdig naar info@powertothemamas.nl\n\n\n\n\nProgramma:\n\n* Een tof woord van Eline Hoogenboom (van het boek #notsoperfect)\n\n\n* Hilarisch herkenbaar cabaret door twee hilarische mama’s Rien & Veer (www.rienenveer.nl)\n\n\n* Intieme maar ook het leven vierende worship door Reyer van Drongelen!\n\n\n\n\n\n\nDe Mom’s Night Out XL is bij Het Kruispunt in Amersfoort\, naast station Vathorst. Je kunt bij het Kruispunt gratis parkeren.\n\nAdres event: Terschellingkade 22 in Amersfoort. Let op! Er zijn wegwerkzaamheden in de wijk waar deze kerk staat. Check de website voor een actuele routebeschrijving en correcte navigatiegegevens!\n\n\n \n\n\n\n\n\n\nHet globale programma:\n\n\n \n\n\n19.00u deur open\n\n\n19.30u start programma\n22.15u officiële programma afgelopen\n23.00u deuren dicht\n\n\n \n\n\nTijdens de pauze en na afloop is er nog ruime gelegenheid om een drankje te doen\, de mini-markt te bekijken en bij te kletsen.\n\n\nWE KIJKEN ERNAAR UIT JE 17 MEI TE ONTMOETEN!\n\n\n
URL:https://gospelagenda.org/evenementen/moms-night-out-xl/
LOCATION:Kruispunt – Kerk in Vathorst\, Terschellingkade 22\, Amersfoort\, Utrecht\, 3826 DJ\, Netherlands
CATEGORIES:Anders,Man / Vrouw,Speciale Diensten
ATTACH;FMTTYPE=image/jpeg:https://gospelagenda.org/wp-content/uploads/2019/04/Moms-Night-Out-XL.jpg
ORGANIZER;CN="Power%20to%20the%20Mama%27s":MAILTO:info@powertothemamas.nl
END:VEVENT
END:VCALENDAR