BEGIN:VCALENDAR
VERSION:2.0
PRODID:-//Gospel Agenda - ECPv4.9.13//NONSGML v1.0//EN
CALSCALE:GREGORIAN
METHOD:PUBLISH
X-ORIGINAL-URL:https://gospelagenda.org
X-WR-CALDESC:Events for Gospel Agenda
BEGIN:VTIMEZONE
TZID:Europe/Paris
BEGIN:DAYLIGHT
TZOFFSETFROM:+0100
TZOFFSETTO:+0200
TZNAME:CEST
DTSTART:20190331T010000
END:DAYLIGHT
BEGIN:STANDARD
TZOFFSETFROM:+0200
TZOFFSETTO:+0100
TZNAME:CET
DTSTART:20191027T010000
END:STANDARD
END:VTIMEZONE
BEGIN:VEVENT
DTSTART;TZID=Europe/Paris:20190507T100000
DTEND;TZID=Europe/Paris:20190508T160000
DTSTAMP:20260425T232955
CREATED:20190419T065310Z
LAST-MODIFIED:20190419T065451Z
UID:2899-1557223200-1557331200@gospelagenda.org
SUMMARY:ME&YOUth
DESCRIPTION:ME&YOUth\n\n\n\n\nJezelf verbinden met de volgende generaties en de volgende generaties verbinden met het evangelie.  \nHoe leggen wij vandaag de dag de verbinding tussen jeugd in en om de kerk en het evangelie? In een tijd waarin veel onderdelen van kerkzijn weinig verbinding lijkt te hebben\, zoeken wij juist naar die verbinding. Niet alleen kerk op zondag\, niet het jeugdwerk als eiland\, niet jongeren in de gemeente tegenover jongeren buiten de gemeente. Hoe kunnen we als christen en als kerk een van stuk zijn in de verbinding met kinderen\, tieners en jongeren? \n\nJeugdwerk uit een stuk: Jeugdwerk als eiland? Jeugdwerk (onder)verdeeld in diaconaat\, missionair\, binnen en buiten? Jongeren binnen de kerk en jongeren buiten de kerk? Jurjen ten Brinke\, Mariska Potters en Dorina Nauta nemen ons mee in een denkproces over holistisch werken met jeugd. Wat kunnen we leren van de gedachtegoed van Integral Mission en Intergrated Mission waar onder andere het Leger des Heils en Tear mee bezig zijn?\nWE connect: workshoprondes (samen bepalen we de thema’s en vullen we de workshops in met de aanwezige expertise)\nTal van interessante workshops uit het netwerk van MissieNederland\nExposure programma: leer nieuwe en bijzondere initiatieven kennen uit het land\, die op bijzondere wijze zich verbinden met de volgende generaties\nEn natuurlijk alle tijd om elkaar te ontmoeten en samen na te denken over jeugdwerk\n\nOver INNOV8\n\nINNOV8 is een netwerk van mensen met hart voor het doorgeven van het evangelie aan de volgende generaties. \nIn het INNOV8 verbinden we de drie soorten professionals in het werkveld: \n\nDoeners: zij die direct te maken hebben met jeugd of hun begeleiders\nDuwers: organisaties die materiaal en evenementen ontwikkelen ter ondersteuning van de praktijk\nDenkers: de opleidingen die doeners opleiden en onderzoek doet op gebied van jeugd(werk).\n\nDoor deze professionals met elkaar te verbinden vergroten we de kennis en expertise\, zodat we ontdekken en leren hoe we beter het evangelie door kunnen geven aan de volgende generaties. \nSamen verlangen we naar plekken waar kinderen en jongeren zicht thuis voelen en in aanraking komen met Gods woord. \nConferentieteam\n\nHet conferentieteam bestaat uit partners van INNOV8 en is een gevarieerde vertegenwoordiging van het netwerk: Marc Potters (Leger des Heils)\, Paul Smit (NGK-Jeugdwerk)\, Willem Klapwijk (Youth for Christ)\, Gwenda Visscher (kinderwerker)\, Savita den Heijer (kinderwerker)\, Peter van der Beek (jeugdwerker)\, Martine Versteeg (relatiemanager Kerk & Jeugd\, MissieNederland). \nProgramma van INNOV8-conferentie ME&YOUth\n\n\n\n\n\nDag 1\, dinsdag 7 mei\n\n\n\n9:30 – 10:00\nInloop en registratie\n\n\n10:00 – 10:30\nOpening conferentie Door Bikker\, A.\n\n\n10:30 – 12:30\nYOUth Exposure\n\n\n12:30 – 14:00\nLunch en vrije tijd\n\n\n14:00 – 15:30\nJeugdwerk uit een stuk Door Brinke\, ten J.M.\, Potters\, M.A.\, Nauta\, D.\n\n\n15:30 – 16:00\nPauze\n\n\n16:00 – 17:30\nYOUth TED-talks\n\n\n17:30 – 19:00\nAvondeten en vrije tijd\n\n\n19:30 – 21:00\nYOUth & Mission: jongeren goed nieuws voor de schepping\n\n\n21:00 – 23:00\nME & YOU time\n\n\n\nDag 2\, woensdag 8 mei\n\n\n\n9:00 – 9:30\nME&YOU-time Start de dag met God\n\n\n9:30 – 9:45\nKoffietijd\n\n\n10:45 – 12:30\nWE connect\n\n\n12:30 – 13:30\nMiddageten en vrije tijd\n\n\n13:30 – 14:45\nWorkshops uit het netwerk\n\n\n15:00 – 16:00\nAfsluitende viering\n\n\n\n\nKaarten\nBestel je kaarten via onderstaande website van het evenement. Hier vind je ook de kosten van kaarten voor het evenement. \n\n\n\n\n
URL:https://gospelagenda.org/evenementen/meyouth/
LOCATION:50|50 Hotel en Congrescentrum Belmont\, Goorsteeg 66\, Ede\, Gelderland\, 6718 TB\, Netherlands
CATEGORIES:Anders,Conferenties,Jeugd,Leiderschap
ATTACH;FMTTYPE=image/jpeg:https://gospelagenda.org/wp-content/uploads/2019/04/MEYOUth-innov8-conferentie-1292x510-website.jpg
ORGANIZER;CN="MissieNederland":MAILTO:info@missienederland.nl
END:VEVENT
END:VCALENDAR