BEGIN:VCALENDAR
VERSION:2.0
PRODID:-//Gospel Agenda - ECPv4.9.13//NONSGML v1.0//EN
CALSCALE:GREGORIAN
METHOD:PUBLISH
X-ORIGINAL-URL:https://gospelagenda.org
X-WR-CALDESC:Events for Gospel Agenda
BEGIN:VTIMEZONE
TZID:Europe/Paris
BEGIN:DAYLIGHT
TZOFFSETFROM:+0100
TZOFFSETTO:+0200
TZNAME:CEST
DTSTART:20160327T010000
END:DAYLIGHT
BEGIN:STANDARD
TZOFFSETFROM:+0200
TZOFFSETTO:+0100
TZNAME:CET
DTSTART:20161030T010000
END:STANDARD
END:VTIMEZONE
BEGIN:VEVENT
DTSTART;TZID=Europe/Paris:20161029T190000
DTEND;TZID=Europe/Paris:20161029T210000
DTSTAMP:20260426T005136
CREATED:20160509T051852Z
LAST-MODIFIED:20160510T200422Z
UID:189-1477767600-1477774800@gospelagenda.org
SUMMARY:Make Some Noise Kids - Dordrecht
DESCRIPTION:Make Some Noise Kids – Tour 2016\nKids en ouders opgelet: Zet je schrap voor de shows van ´Make Some Noise Kids´! Zoiets gaafs en vernieuwends heb je nog nooit gezien.  \nMake Some Noise Kids in het kort:\nIn 2014 lanceerde de Nederlandse kindergroep ´Make Some Noise Kids´ hun debuutalbum. Sindsdien zijn er al meer dan 12.000 albums verkocht en weet ´Make Some Noise Kids´ als geen ander de klik met de kinderdoelgroep te maken. Met aanstekelijke\, stoere en veilige liedjes worden kids geïnspireerd  in hun geloof in God en omgaan met elkaar. \n´Make Some Noise Kids´ weet als geen ander wat kinderen gaaf vinden. Kinderen (en ouders) zullen tijdens de shows ogen en oren te kort komen. \nMet 30 dansers\, een DJ\, stoere presentatoren en natuurlijk veel ´Make Some Noise Kids-hits´ wordt dit een onvergetelijk groot spektakel. Deze shows kun je het beste vergelijken met de tv-shows van o.a. ´Kinderen voor Kinderen´. \nLET OP: Nog nooit is in Nederland zo’n groot en spectaculair christelijk kinder-event geweest. Tickets zijn verkrijgbaar zolang de voorraad strekt\, we raden aan op tijd te bestellen. \nGroepskorting vanaf 25 reguliere tickets: € 3 per ticket. \nWe beginnen om 19.00 uur.  \n\n\n\nDatum\nzaterdag 29 oktober\nzaterdag 5 november\nzaterdag 19 november\nzaterdag 26 november\n\n\nPlaats\nDordrecht\nAalsmeerderbrug\nVeenendaal\nDrachten\n\n\nLocatie\nJozua\nLevend Evangelie Gemeente\nDe Basiliek\nFries Congrescentrum\n\n\nAdres\nSikkelstraat 2\, 3319 LJ\nKruisweg 55\, 1436 CA\nWiltonstraat 56\, 3905 KW\nOprijlaan 3\, 9205 BZ\n\n\n\n
URL:https://gospelagenda.org/evenementen/make-some-noise-kids-dordrecht/
LOCATION:Evangelische Gemeente Jozua Dordrecht\, Sikkelstraat 2\, Dordrecht\, Zuid-Holland\, 3319 LJ\, Nederland
ATTACH;FMTTYPE=image/jpeg:https://gospelagenda.org/wp-content/uploads/2016/05/MSN-site.jpg
END:VEVENT
END:VCALENDAR