BEGIN:VCALENDAR
VERSION:2.0
PRODID:-//Gospel Agenda - ECPv4.9.13//NONSGML v1.0//EN
CALSCALE:GREGORIAN
METHOD:PUBLISH
X-ORIGINAL-URL:https://gospelagenda.org
X-WR-CALDESC:Events for Gospel Agenda
BEGIN:VTIMEZONE
TZID:Europe/Paris
BEGIN:DAYLIGHT
TZOFFSETFROM:+0100
TZOFFSETTO:+0200
TZNAME:CEST
DTSTART:20160327T010000
END:DAYLIGHT
BEGIN:STANDARD
TZOFFSETFROM:+0200
TZOFFSETTO:+0100
TZNAME:CET
DTSTART:20161030T010000
END:STANDARD
END:VTIMEZONE
BEGIN:VEVENT
DTSTART;TZID=Europe/Paris:20160611T200000
DTEND;TZID=Europe/Paris:20160611T220000
DTSTAMP:20260426T011125
CREATED:20160509T060334Z
LAST-MODIFIED:20160509T060334Z
UID:198-1465675200-1465682400@gospelagenda.org
SUMMARY:Make It Happen
DESCRIPTION:Make It Happen ‘Tribute to Gospel Greatest’\nMake It Happen is back. Na 2 succesvolle edities zijn wij nu volop bezig met de voorbereidingen voor de ‘Men’s Edition’. Op zaterdag 11 juni 2016 vind deze plaats met al thema ‘A tribute to gospel greatest’. Met muziek van onder andere Andrae Crouch\, The Winans\, The Hawkins e.a. Dit theaterconcert wordt wederom een spectakel die je niet mag missen. Zorg daarom dat je nu al je kaarten reserveert\, want op=op! \nOok is deze editie overspoelt met muzikaal talent. Naast onze geweldige band van muzikanten hebben we 4 imponerende lead vocalisten in de line up! \n\nDwight Dissels\nShelton Telesford\nGilbert Thera\nBrandon Delagraentiss\n\n \n
URL:https://gospelagenda.org/evenementen/make-it-happen/
LOCATION:Theater de Omval\, Ouddiemerlaan 104\, Diemen\, Noord-Holland\, 1111 HL\, Nederland
ATTACH;FMTTYPE=image/jpeg:https://gospelagenda.org/wp-content/uploads/2016/05/Make-it-happen-poster-final-.jpg
END:VEVENT
END:VCALENDAR