BEGIN:VCALENDAR
VERSION:2.0
PRODID:-//Gospel Agenda - ECPv4.9.13//NONSGML v1.0//EN
CALSCALE:GREGORIAN
METHOD:PUBLISH
X-ORIGINAL-URL:https://gospelagenda.org
X-WR-CALDESC:Events for Gospel Agenda
BEGIN:VTIMEZONE
TZID:Europe/Paris
BEGIN:DAYLIGHT
TZOFFSETFROM:+0100
TZOFFSETTO:+0200
TZNAME:CEST
DTSTART:20160327T010000
END:DAYLIGHT
BEGIN:STANDARD
TZOFFSETFROM:+0200
TZOFFSETTO:+0100
TZNAME:CET
DTSTART:20161030T010000
END:STANDARD
END:VTIMEZONE
BEGIN:VEVENT
DTSTART;TZID=Europe/Paris:20160514T193000
DTEND;TZID=Europe/Paris:20160514T220000
DTSTAMP:20260425T204052
CREATED:20160513T100517Z
LAST-MODIFIED:20160513T100750Z
UID:386-1463254200-1463263200@gospelagenda.org
SUMMARY:LSM Pinksterconferentie 2016 - Dag 2
DESCRIPTION:Walking in the anointing of the Holy Spirit\nLevende Steen Ministries Pinksterconferentie 2016 \nKrachtige 3 Daagse LSM Pinksterconferentie met o.a.:\nPraise & Worship\, Wonderen\, Tekenen en Fellowship\nKom 13\, 14 & 15 mei naar Levende Steen Ministries in Spijkenisse en ervaar de grote en liefdevolle kracht van God tijdens dit Pinksterweekend in ‘de Dome’ in Spijkenisse. Naast apostel Holder zal pastor Suliasi Kurulo (World Harvest Centre\, Fiji) in ons midden zijn met een krachtige boodschap. \nVrijdag & Zaterdag\nAanvang 19:30 uur\nZondag\nAanvang 11:00 uur\n
URL:https://gospelagenda.org/evenementen/lsm-pinksterconferentie-2016-dag-2/
LOCATION:De Dome\, C. Villeriuslaan 12\, Spijkenisse\, Zuid-Holland\, 3201 KV\, Nederland
ATTACH;FMTTYPE=image/jpeg:https://gospelagenda.org/wp-content/uploads/2016/05/201605_pinksteren_slider.jpg
ORGANIZER;CN="Levende%20Steen%20Ministries":MAILTO:info@levendesteenministries.nl
END:VEVENT
END:VCALENDAR