BEGIN:VCALENDAR
VERSION:2.0
PRODID:-//Gospel Agenda - ECPv4.9.13//NONSGML v1.0//EN
CALSCALE:GREGORIAN
METHOD:PUBLISH
X-ORIGINAL-URL:https://gospelagenda.org
X-WR-CALDESC:Events for Gospel Agenda
BEGIN:VTIMEZONE
TZID:Europe/Paris
BEGIN:DAYLIGHT
TZOFFSETFROM:+0100
TZOFFSETTO:+0200
TZNAME:CEST
DTSTART:20190331T010000
END:DAYLIGHT
BEGIN:STANDARD
TZOFFSETFROM:+0200
TZOFFSETTO:+0100
TZNAME:CET
DTSTART:20191027T010000
END:STANDARD
END:VTIMEZONE
BEGIN:VEVENT
DTSTART;TZID=Europe/Paris:20190321T190000
DTEND;TZID=Europe/Paris:20190321T210000
DTSTAMP:20260425T210714
CREATED:20190222T070604Z
LAST-MODIFIED:20190222T070604Z
UID:1980-1553194800-1553202000@gospelagenda.org
SUMMARY:Love in Action - Maart
DESCRIPTION:Love in Action\n\nDat betekent: zijn zoals Jezus op deze aarde. Hij ging rond ‘goed doende en genezende.’ \nDe straat is onze plek om te oefenen in deze levensstijl. Onder begeleiding van ervaren mensen spreken we Amersfoorters aan. We vragen naar hun geloof. We bidden met mensen voor genezing. En we bieden redding aan in de ontmoeting met Jezus Christus. Geweldig! \nWe verzamelen op de Varkensmarkt in Amersfoort om 19.00u. Het is dan koopavond in de stad. Het duurt tot ongeveer 21u. \n\n
URL:https://gospelagenda.org/evenementen/love-in-action-maart/
LOCATION:Rafaël Amersfoort\, Kosmonaut 2\, Amersfoort\, Utrecht\, 3824 MK\, Nederland
CATEGORIES:Anders,Ministry
ATTACH;FMTTYPE=image/jpeg:https://gospelagenda.org/wp-content/uploads/2019/02/Rafael-Amersfoort-logo-675x675px.jpg
ORGANIZER;CN="Rafa%C3%ABl%20Amersfoort":MAILTO:info@rafaelamersfoort.nl
END:VEVENT
END:VCALENDAR