BEGIN:VCALENDAR
VERSION:2.0
PRODID:-//Gospel Agenda - ECPv4.9.13//NONSGML v1.0//EN
CALSCALE:GREGORIAN
METHOD:PUBLISH
X-ORIGINAL-URL:https://gospelagenda.org
X-WR-CALDESC:Events for Gospel Agenda
BEGIN:VTIMEZONE
TZID:Europe/Paris
BEGIN:DAYLIGHT
TZOFFSETFROM:+0100
TZOFFSETTO:+0200
TZNAME:CEST
DTSTART:20160327T010000
END:DAYLIGHT
BEGIN:STANDARD
TZOFFSETFROM:+0200
TZOFFSETTO:+0100
TZNAME:CET
DTSTART:20161030T010000
END:STANDARD
END:VTIMEZONE
BEGIN:VEVENT
DTSTART;TZID=Europe/Paris:20160520T200000
DTEND;TZID=Europe/Paris:20160520T230000
DTSTAMP:20260425T233002
CREATED:20160510T191139Z
LAST-MODIFIED:20160510T192103Z
UID:288-1463774400-1463785200@gospelagenda.org
SUMMARY:Loft Worship - Mei
DESCRIPTION:Worship Night – Loft Worship\nEen avond waar de Heilige Geest de ruimte krijgt en waar God troont op onze aanbidding. Er is kracht in het samen aanbidden van God! Hij zoekt intimiteit met ons en we willen heerlijk de tijd met Hem doorbrengen en Hem verhogen. \nBijproduct: Hij komt met Zijn kracht en liefde en Zijn aanwezigheid zal ons veranderen en vullen. \nHet team van Loft Worship kijkt er naar uit om samen God’s aanwezigheid te ervaren wanneer we aanbidden\, bemoedigen en bedienen. We verlangen er naar om ons helemaal over te geven aan de Heilige Geest en dus plannen we alleen een aantal toffe nummers van onder andere Bethel Music\, Jesus Culture\, Hillsong etc en verder verwachten we alles uit de hemel!! \nHeb jij een passie om Jezus te verhogen en een honger om meer van God in jouw leven te ervaren? Verlang jij ernaar om steeds meer koninkrijk op aarde te zien? Zin om gewoon lekker te ‘zijn’ in Zijn aanwezigheid? Kriebelt er iets en wil je er bij zijn? Jong of oud: IEDEREEN IS VAN HARTE WELKOM!! \n \n
URL:https://gospelagenda.org/evenementen/loft-worship-mei/
LOCATION:Wijkcentrum Corlaer\, Rijstegoed 2\, Nijkerk\, Gelderland\, 3863 BZ\, Nederland
ATTACH;FMTTYPE=image/jpeg:https://gospelagenda.org/wp-content/uploads/2016/05/Loft-Worship-Worship-Night-20-mei.jpg
ORGANIZER;CN="Loft%20Worship":MAILTO:info@loftworship.nl
END:VEVENT
END:VCALENDAR