BEGIN:VCALENDAR
VERSION:2.0
PRODID:-//Gospel Agenda - ECPv4.9.13//NONSGML v1.0//EN
CALSCALE:GREGORIAN
METHOD:PUBLISH
X-ORIGINAL-URL:https://gospelagenda.org
X-WR-CALDESC:Events for Gospel Agenda
BEGIN:VTIMEZONE
TZID:Europe/Paris
BEGIN:DAYLIGHT
TZOFFSETFROM:+0100
TZOFFSETTO:+0200
TZNAME:CEST
DTSTART:20190331T010000
END:DAYLIGHT
BEGIN:STANDARD
TZOFFSETFROM:+0200
TZOFFSETTO:+0100
TZNAME:CET
DTSTART:20191027T010000
END:STANDARD
END:VTIMEZONE
BEGIN:VEVENT
DTSTART;TZID=Europe/Paris:20190428T143000
DTEND;TZID=Europe/Paris:20190428T190000
DTSTAMP:20260425T235642
CREATED:20190409T050604Z
LAST-MODIFIED:20190409T180700Z
UID:2717-1556461800-1556478000@gospelagenda.org
SUMMARY:Leven (door) de Koning Worship
DESCRIPTION:Leven (door) de Koning Worship\nLeven door de Koning is een worship concert op 28 april a.s op het festival terrein op Groot Overheem in Renswoude. Concerten van Matthijn Buwalda en Kees Kraaijenoord / Mozaïek Worship. Voor de kinderen is er een roofvogelshow\, een ballonengoochelaar en clowns. \nDe toegang is gratis. \n
URL:https://gospelagenda.org/evenementen/leven-door-de-koning-worship/
LOCATION:Festivalterrein Groot Overeem (Renswoude)\, Groot Overeem\, Renswoude\, Utrecht\, 3927 GH\, Netherlands
CATEGORIES:Festivals,Jeugd,Speciale Diensten
ATTACH;FMTTYPE=image/jpeg:https://gospelagenda.org/wp-content/uploads/2019/04/Leve-door-de-Koning-Worship-960x900px.jpg
END:VEVENT
END:VCALENDAR